BEGIN:VCALENDAR
VERSION:2.0
PRODID:-//Ajuntament de Mont-roig del Camp - ECPv5.16.3.1//NONSGML v1.0//EN
CALSCALE:GREGORIAN
METHOD:PUBLISH
X-WR-CALNAME:Ajuntament de Mont-roig del Camp
X-ORIGINAL-URL:https://mont-roig.cat
X-WR-CALDESC:Esdeveniments per Ajuntament de Mont-roig del Camp
BEGIN:VTIMEZONE
TZID:Europe/Madrid
BEGIN:DAYLIGHT
TZOFFSETFROM:+0100
TZOFFSETTO:+0200
TZNAME:CEST
DTSTART:20190331T010000
END:DAYLIGHT
BEGIN:STANDARD
TZOFFSETFROM:+0200
TZOFFSETTO:+0100
TZNAME:CET
DTSTART:20191027T010000
END:STANDARD
END:VTIMEZONE
BEGIN:VEVENT
DTSTART;TZID=Europe/Madrid:20190808T200000
DTEND;TZID=Europe/Madrid:20190808T220000
DTSTAMP:20260420T182034
CREATED:20190703T064639Z
LAST-MODIFIED:20190703T064639Z
UID:37616-1565294400-1565301600@mont-roig.cat
SUMMARY:Nits al Mas Miró: 'Miró i la música'
DESCRIPTION:De la mà del nét de Joan Miró\, Joan Punyet Miró\, es farà la presentació del seu llibre Miró&Music\, per conèixer en profunditat la influència de la música en la vida i l’obra de l’artista. L’experiència comptarà a més amb una visita musicalitzada pels espais de Mas Miró i un sopar als jardins de la finca. \nIdioma: Català \nMés informació i reserves:  977 179 158 – info@masmiro.com
URL:https://mont-roig.cat/acte/nits-al-mas-miro-miro-i-la-musica/
LOCATION:Mas Miró\, Mont-roig\, Tarragona\, 43300
CATEGORIES:Ajuntament,Turisme
ATTACH;FMTTYPE=image/jpeg:https://mont-roig.cat/wp-content/uploads/Cartell_miró-i-la-música.jpg
END:VEVENT
BEGIN:VEVENT
DTSTART;TZID=Europe/Madrid:20190808T200000
DTEND;TZID=Europe/Madrid:20190808T230000
DTSTAMP:20260420T182034
CREATED:20190730T072347Z
LAST-MODIFIED:20190730T072347Z
UID:38236-1565294400-1565305200@mont-roig.cat
SUMMARY:Noctàmbuls\, sopar a la fresca
DESCRIPTION:Porta el teu sopar de casa i anirem tots junts al parc Maria Martori per sopar a la fresca
URL:https://mont-roig.cat/acte/noctambuls-sopar-a-la-fresca/
LOCATION:Parc Maria Martori\, Parc Maria Martori\, Mont-roig del Camp\, Tarragona\, 43300
CATEGORIES:Ajuntament,Joventut
ATTACH;FMTTYPE=image/png:https://mont-roig.cat/wp-content/uploads/SOPAR-A-LA-FRESCA.png
GEO:41.0883839;0.9624933
X-APPLE-STRUCTURED-LOCATION;VALUE=URI;X-ADDRESS=Parc Maria Martori Parc Maria Martori Mont-roig del Camp Tarragona 43300;X-APPLE-RADIUS=500;X-TITLE=Parc Maria Martori:geo:0.9624933,41.0883839
END:VEVENT
END:VCALENDAR