BEGIN:VCALENDAR
VERSION:2.0
PRODID:-//Ajuntament de Mont-roig del Camp - ECPv5.16.3.1//NONSGML v1.0//EN
CALSCALE:GREGORIAN
METHOD:PUBLISH
X-WR-CALNAME:Ajuntament de Mont-roig del Camp
X-ORIGINAL-URL:https://mont-roig.cat
X-WR-CALDESC:Esdeveniments per Ajuntament de Mont-roig del Camp
BEGIN:VTIMEZONE
TZID:Europe/Madrid
BEGIN:DAYLIGHT
TZOFFSETFROM:+0100
TZOFFSETTO:+0200
TZNAME:CEST
DTSTART:20190331T010000
END:DAYLIGHT
BEGIN:STANDARD
TZOFFSETFROM:+0200
TZOFFSETTO:+0100
TZNAME:CET
DTSTART:20191027T010000
END:STANDARD
END:VTIMEZONE
BEGIN:VEVENT
DTSTART;TZID=Europe/Madrid:20190810T100000
DTEND;TZID=Europe/Madrid:20190810T230000
DTSTAMP:20260420T195849
CREATED:20190730T072832Z
LAST-MODIFIED:20190730T072832Z
UID:38259-1565431200-1565478000@mont-roig.cat
SUMMARY:Shopping Night
DESCRIPTION:Comerços i establiments oberts fins a les 23 h\, obsequis i animació musical amb la Bandarra Street Orkestra.
URL:https://mont-roig.cat/acte/shopping-night/
LOCATION:Avinguda Barcelona\, Avinguda Barcelona\, Miami Platja 
CATEGORIES:Ajuntament,Impuls Econòmic i Ocupació
ATTACH;FMTTYPE=image/jpeg:https://mont-roig.cat/wp-content/uploads/shoppingnight10agost_page-0001.jpg
GEO:41.009761;0.9396429
X-APPLE-STRUCTURED-LOCATION;VALUE=URI;X-ADDRESS=Avinguda Barcelona Avinguda Barcelona Miami Platja;X-APPLE-RADIUS=500;X-TITLE=Avinguda Barcelona:geo:0.9396429,41.009761
END:VEVENT
BEGIN:VEVENT
DTSTART;TZID=Europe/Madrid:20190810T200000
DTEND;TZID=Europe/Madrid:20190810T233000
DTSTAMP:20260420T195849
CREATED:20190703T065547Z
LAST-MODIFIED:20190703T065547Z
UID:37622-1565467200-1565479800@mont-roig.cat
SUMMARY:Documental Miró contra Miró
DESCRIPTION:Una oportunitat única de veure el recentment estrenat documental “Miró contra Miró” al mateix context que Joan Miró reconeixia com a origen de tota la seva obra\, el Mas Miró. Un nit per viure l’essència d’una figura universalment coneguda a través de diferents experiències: una visita lliure pels espais del Mas Miró\, un sopar als jardins del mas i\, per acabar\, la projecció del documental “Miró contra Miró” d’Albert Solé. \nIdioma: Català \nMés informació i reserves: 977 179 158 – info@masmiro.com
URL:https://mont-roig.cat/acte/documental-miro-contra-miro/
LOCATION:Mas Miró\, Mont-roig\, Tarragona\, 43300
CATEGORIES:Ajuntament,Turisme
ATTACH;FMTTYPE=image/jpeg:https://mont-roig.cat/wp-content/uploads/miro-contra-miro.jpg
END:VEVENT
BEGIN:VEVENT
DTSTART;TZID=Europe/Madrid:20190810T220000
DTEND;TZID=Europe/Madrid:20190810T233000
DTSTAMP:20260420T195849
CREATED:20190703T071548Z
LAST-MODIFIED:20190703T071548Z
UID:37696-1565474400-1565479800@mont-roig.cat
SUMMARY:Sons de Nit amb Marta Trujillo
DESCRIPTION:Concert de Marta Trujillo i Andreu Cañadell\, duet artístic protagonitzat per la cantant i actriu Marta Trujillo i pel pianista i cantant Andreu Cañadell. \n 
URL:https://mont-roig.cat/acte/sons-de-nit-amb-marta-trujillo/
LOCATION:Ermita Mare de Déu de la Roca
CATEGORIES:Ajuntament,Cultura
ATTACH;FMTTYPE=image/jpeg:https://mont-roig.cat/wp-content/uploads/Marta-Trujillo1.jpg
END:VEVENT
END:VCALENDAR