BEGIN:VCALENDAR
VERSION:2.0
PRODID:-//Ajuntament de Mont-roig del Camp - ECPv5.16.3.1//NONSGML v1.0//EN
CALSCALE:GREGORIAN
METHOD:PUBLISH
X-WR-CALNAME:Ajuntament de Mont-roig del Camp
X-ORIGINAL-URL:https://mont-roig.cat
X-WR-CALDESC:Esdeveniments per Ajuntament de Mont-roig del Camp
BEGIN:VTIMEZONE
TZID:Europe/Madrid
BEGIN:DAYLIGHT
TZOFFSETFROM:+0100
TZOFFSETTO:+0200
TZNAME:CEST
DTSTART:20190331T010000
END:DAYLIGHT
BEGIN:STANDARD
TZOFFSETFROM:+0200
TZOFFSETTO:+0100
TZNAME:CET
DTSTART:20191027T010000
END:STANDARD
END:VTIMEZONE
BEGIN:VEVENT
DTSTART;TZID=Europe/Madrid:20190814T080000
DTEND;TZID=Europe/Madrid:20190909T170000
DTSTAMP:20260422T150524
CREATED:20190710T145427Z
LAST-MODIFIED:20190710T151724Z
UID:37974-1565769600-1568048400@mont-roig.cat
SUMMARY:Exposició sobre l'escriptora Teresa Pàmies
DESCRIPTION:
URL:https://mont-roig.cat/acte/exposicio-sobre-teresa-pamies/
LOCATION:Biblioteca Joan Miró Mont-roig\, Carrer Mare de Déu de la Roca\, 5\, Mont-roig del Camp
CATEGORIES:Ajuntament,Biblioteca
ATTACH;FMTTYPE=image/jpeg:https://mont-roig.cat/wp-content/uploads/EXPOPAMIES_page-0001.jpg
GEO:41.08714;0.958
X-APPLE-STRUCTURED-LOCATION;VALUE=URI;X-ADDRESS=Biblioteca Joan Miró Mont-roig Carrer Mare de Déu de la Roca 5 Mont-roig del Camp;X-APPLE-RADIUS=500;X-TITLE=Carrer Mare de Déu de la Roca\, 5:geo:0.958,41.08714
END:VEVENT
BEGIN:VEVENT
DTSTART;TZID=Europe/Madrid:20190816T100000
DTEND;TZID=Europe/Madrid:20190816T130000
DTSTAMP:20260422T150524
CREATED:20190730T073643Z
LAST-MODIFIED:20190730T073643Z
UID:38265-1565949600-1565960400@mont-roig.cat
SUMMARY:Taller DIY Polseres
DESCRIPTION:Taller on podràs realitzar les teves pròpies polseres de color ideals per aquest estiu!
URL:https://mont-roig.cat/acte/taller-diy-polseres-2/
LOCATION:Casal de Joves K2\, Carrer Granada\, 48\, Miami Platja
CATEGORIES:Ajuntament,Joventut
ATTACH;FMTTYPE=image/png:https://mont-roig.cat/wp-content/uploads/DIY-POLSERES.png
GEO:41.00419;0.92892
X-APPLE-STRUCTURED-LOCATION;VALUE=URI;X-ADDRESS=Casal de Joves K2 Carrer Granada 48 Miami Platja;X-APPLE-RADIUS=500;X-TITLE=Carrer Granada\, 48:geo:0.92892,41.00419
END:VEVENT
BEGIN:VEVENT
DTSTART;TZID=Europe/Madrid:20190816T220000
DTEND;TZID=Europe/Madrid:20190816T233000
DTSTAMP:20260422T150524
CREATED:20190703T081335Z
LAST-MODIFIED:20190703T081335Z
UID:37769-1565992800-1565998200@mont-roig.cat
SUMMARY:Cinema a la fresca: Cristhoper Robin
DESCRIPTION:
URL:https://mont-roig.cat/acte/cinema-a-la-fresca-cristhoper-robin/
LOCATION:Pèrgola Platja Cristall\, Platja Cristall\, Miami Platja \, 43892
CATEGORIES:Ajuntament,Turisme
ATTACH;FMTTYPE=image/jpeg:https://mont-roig.cat/wp-content/uploads/CRISTOPHER-ROBIN.jpg
GEO:40.998277;0.9350433
X-APPLE-STRUCTURED-LOCATION;VALUE=URI;X-ADDRESS=Pèrgola Platja Cristall Platja Cristall Miami Platja  43892;X-APPLE-RADIUS=500;X-TITLE=Platja Cristall:geo:0.9350433,40.998277
END:VEVENT
END:VCALENDAR