BEGIN:VCALENDAR
VERSION:2.0
PRODID:-//Ajuntament de Mont-roig del Camp - ECPv5.16.3.1//NONSGML v1.0//EN
CALSCALE:GREGORIAN
METHOD:PUBLISH
X-WR-CALNAME:Ajuntament de Mont-roig del Camp
X-ORIGINAL-URL:https://mont-roig.cat
X-WR-CALDESC:Esdeveniments per Ajuntament de Mont-roig del Camp
BEGIN:VTIMEZONE
TZID:Europe/Madrid
BEGIN:DAYLIGHT
TZOFFSETFROM:+0100
TZOFFSETTO:+0200
TZNAME:CEST
DTSTART:20190331T010000
END:DAYLIGHT
BEGIN:STANDARD
TZOFFSETFROM:+0200
TZOFFSETTO:+0100
TZNAME:CET
DTSTART:20191027T010000
END:STANDARD
END:VTIMEZONE
BEGIN:VEVENT
DTSTART;TZID=Europe/Madrid:20190814T080000
DTEND;TZID=Europe/Madrid:20190909T170000
DTSTAMP:20260422T014333
CREATED:20190710T145427Z
LAST-MODIFIED:20190710T151724Z
UID:37974-1565769600-1568048400@mont-roig.cat
SUMMARY:Exposició sobre l'escriptora Teresa Pàmies
DESCRIPTION:
URL:https://mont-roig.cat/acte/exposicio-sobre-teresa-pamies/
LOCATION:Biblioteca Joan Miró Mont-roig\, Carrer Mare de Déu de la Roca\, 5\, Mont-roig del Camp
CATEGORIES:Ajuntament,Biblioteca
ATTACH;FMTTYPE=image/jpeg:https://mont-roig.cat/wp-content/uploads/EXPOPAMIES_page-0001.jpg
GEO:41.08714;0.958
X-APPLE-STRUCTURED-LOCATION;VALUE=URI;X-ADDRESS=Biblioteca Joan Miró Mont-roig Carrer Mare de Déu de la Roca 5 Mont-roig del Camp;X-APPLE-RADIUS=500;X-TITLE=Carrer Mare de Déu de la Roca\, 5:geo:0.958,41.08714
END:VEVENT
BEGIN:VEVENT
DTSTART;TZID=Europe/Madrid:20190818T103000
DTEND;TZID=Europe/Madrid:20190818T123000
DTSTAMP:20260422T014333
CREATED:20190703T060552Z
LAST-MODIFIED:20190703T060604Z
UID:37602-1566124200-1566131400@mont-roig.cat
SUMMARY:Escape Room 'Operació Joan Miró'
DESCRIPTION:Atreveix-te a resoldre els enigmes de l’operació Joan Miró! Participa al primer Escape Room a l’aire lliure i en plena natura que combina el senderisme amb l’emoció de resoldre els enigmes que giren entorn a la vinculació i obra del genial l’artista Joan Miró. Imprescindible portar calçat còmode i aigua. \nIdiomes: Català\, castellà i anglès \nPreu: 20 € (+8 anys) / Gratuït (0 – 8 anys) \nMés Informació: 689 006 199 – guiatges@elbrogit.com \nVenda de tiquets: https://www.elbrogit.com/ca/product/escape-room-operacio-joan-miro/ \nPlaces limitades.
URL:https://mont-roig.cat/acte/escape-room-operacio-joan-miro-6/
LOCATION:Parc de l’Era
CATEGORIES:Ajuntament,Turisme
ATTACH;FMTTYPE=image/jpeg:https://mont-roig.cat/wp-content/uploads/3_escape_room-2.jpg
END:VEVENT
BEGIN:VEVENT
DTSTART;TZID=Europe/Madrid:20190818T190000
DTEND;TZID=Europe/Madrid:20190818T203000
DTSTAMP:20260422T014333
CREATED:20190703T073541Z
LAST-MODIFIED:20190817T091609Z
UID:37708-1566154800-1566160200@mont-roig.cat
SUMMARY:Petit Sons de Nit amb Pengim-Penjam
DESCRIPTION:El llop cantaire dels tres porquets i la Caputxeta\,  a càrrec de la companyia Pengim-Penjam. Espectacle de música amb contes populars\, titelles\, violí i somriures. \n 
URL:https://mont-roig.cat/acte/sons-de-tarda-amb-pengim-penjam/
LOCATION:Ermita Mare de Déu de la Roca
CATEGORIES:Ajuntament,Cultura
ATTACH;FMTTYPE=image/jpeg:https://mont-roig.cat/wp-content/uploads/Pengim-Penjam-El-Llop-cantaire-10.jpg
END:VEVENT
END:VCALENDAR