BEGIN:VCALENDAR
VERSION:2.0
PRODID:-//Ajuntament de Mont-roig del Camp - ECPv5.16.3.1//NONSGML v1.0//EN
CALSCALE:GREGORIAN
METHOD:PUBLISH
X-WR-CALNAME:Ajuntament de Mont-roig del Camp
X-ORIGINAL-URL:https://mont-roig.cat
X-WR-CALDESC:Esdeveniments per Ajuntament de Mont-roig del Camp
BEGIN:VTIMEZONE
TZID:Europe/Madrid
BEGIN:DAYLIGHT
TZOFFSETFROM:+0100
TZOFFSETTO:+0200
TZNAME:CEST
DTSTART:20190331T010000
END:DAYLIGHT
BEGIN:STANDARD
TZOFFSETFROM:+0200
TZOFFSETTO:+0100
TZNAME:CET
DTSTART:20191027T010000
END:STANDARD
END:VTIMEZONE
BEGIN:VEVENT
DTSTART;TZID=Europe/Madrid:20190814T080000
DTEND;TZID=Europe/Madrid:20190909T170000
DTSTAMP:20260420T182004
CREATED:20190710T145427Z
LAST-MODIFIED:20190710T151724Z
UID:37974-1565769600-1568048400@mont-roig.cat
SUMMARY:Exposició sobre l'escriptora Teresa Pàmies
DESCRIPTION:
URL:https://mont-roig.cat/acte/exposicio-sobre-teresa-pamies/
LOCATION:Biblioteca Joan Miró Mont-roig\, Carrer Mare de Déu de la Roca\, 5\, Mont-roig del Camp
CATEGORIES:Ajuntament,Biblioteca
ATTACH;FMTTYPE=image/jpeg:https://mont-roig.cat/wp-content/uploads/EXPOPAMIES_page-0001.jpg
GEO:41.08714;0.958
X-APPLE-STRUCTURED-LOCATION;VALUE=URI;X-ADDRESS=Biblioteca Joan Miró Mont-roig Carrer Mare de Déu de la Roca 5 Mont-roig del Camp;X-APPLE-RADIUS=500;X-TITLE=Carrer Mare de Déu de la Roca\, 5:geo:0.958,41.08714
END:VEVENT
BEGIN:VEVENT
DTSTART;TZID=Europe/Madrid:20190820T100000
DTEND;TZID=Europe/Madrid:20190820T120000
DTSTAMP:20260420T182004
CREATED:20190730T074103Z
LAST-MODIFIED:20190730T074103Z
UID:38267-1566295200-1566302400@mont-roig.cat
SUMMARY:Sortida amb kayak
DESCRIPTION:Vine a gaudir d’un passeig amb caiac per les diferents cales de Miami Platja. Places limitades. Inscripció gratuïta als Casals de Joves
URL:https://mont-roig.cat/acte/sortida-amb-kayak-2/
LOCATION:Estació Nàutica\, Platja Cristall\, Miami Platja 
CATEGORIES:Ajuntament,Joventut
ATTACH;FMTTYPE=image/png:https://mont-roig.cat/wp-content/uploads/SORTIDA-KAYAK.png
GEO:40.9950744;0.9297657
X-APPLE-STRUCTURED-LOCATION;VALUE=URI;X-ADDRESS=Estació Nàutica Platja Cristall Miami Platja;X-APPLE-RADIUS=500;X-TITLE=Platja Cristall:geo:0.9297657,40.9950744
END:VEVENT
END:VCALENDAR