BEGIN:VCALENDAR
VERSION:2.0
PRODID:-//Ajuntament de Mont-roig del Camp - ECPv5.16.3.1//NONSGML v1.0//EN
CALSCALE:GREGORIAN
METHOD:PUBLISH
X-WR-CALNAME:Ajuntament de Mont-roig del Camp
X-ORIGINAL-URL:https://mont-roig.cat
X-WR-CALDESC:Esdeveniments per Ajuntament de Mont-roig del Camp
BEGIN:VTIMEZONE
TZID:Europe/Madrid
BEGIN:DAYLIGHT
TZOFFSETFROM:+0100
TZOFFSETTO:+0200
TZNAME:CEST
DTSTART:20190331T010000
END:DAYLIGHT
BEGIN:STANDARD
TZOFFSETFROM:+0200
TZOFFSETTO:+0100
TZNAME:CET
DTSTART:20191027T010000
END:STANDARD
END:VTIMEZONE
BEGIN:VEVENT
DTSTART;TZID=Europe/Madrid:20190814T080000
DTEND;TZID=Europe/Madrid:20190909T170000
DTSTAMP:20260421T024648
CREATED:20190710T145427Z
LAST-MODIFIED:20190710T151724Z
UID:37974-1565769600-1568048400@mont-roig.cat
SUMMARY:Exposició sobre l'escriptora Teresa Pàmies
DESCRIPTION:
URL:https://mont-roig.cat/acte/exposicio-sobre-teresa-pamies/
LOCATION:Biblioteca Joan Miró Mont-roig\, Carrer Mare de Déu de la Roca\, 5\, Mont-roig del Camp
CATEGORIES:Ajuntament,Biblioteca
ATTACH;FMTTYPE=image/jpeg:https://mont-roig.cat/wp-content/uploads/EXPOPAMIES_page-0001.jpg
GEO:41.08714;0.958
X-APPLE-STRUCTURED-LOCATION;VALUE=URI;X-ADDRESS=Biblioteca Joan Miró Mont-roig Carrer Mare de Déu de la Roca 5 Mont-roig del Camp;X-APPLE-RADIUS=500;X-TITLE=Carrer Mare de Déu de la Roca\, 5:geo:0.958,41.08714
END:VEVENT
BEGIN:VEVENT
DTSTART;VALUE=DATE:20190821
DTEND;VALUE=DATE:20190826
DTSTAMP:20260421T024648
CREATED:20190703T070020Z
LAST-MODIFIED:20190703T070020Z
UID:37630-1566345600-1566777599@mont-roig.cat
SUMMARY:Nomad Festival
DESCRIPTION:Per quart any consecutiu\, el Nomad Festival s’instal·la a la Punta del Riu de Miami Platja. Oferint així una proposta gastronòmica combinada amb actuacions musicals\, activitats infantils i un mercat dedicat a artesans\, dissenyadors i petites marques. \n 
URL:https://mont-roig.cat/acte/nomad-festival-2/
LOCATION:Punta del Riu\, carrer Ponent\, 8\, Miami Platja\, Espanya
CATEGORIES:Ajuntament
GEO:40.9931741;0.931027
X-APPLE-STRUCTURED-LOCATION;VALUE=URI;X-ADDRESS=Punta del Riu carrer Ponent 8 Miami Platja Espanya;X-APPLE-RADIUS=500;X-TITLE=carrer Ponent\, 8:geo:0.931027,40.9931741
END:VEVENT
BEGIN:VEVENT
DTSTART;TZID=Europe/Madrid:20190823T170000
DTEND;TZID=Europe/Madrid:20190823T200000
DTSTAMP:20260421T024648
CREATED:20190813T093909Z
LAST-MODIFIED:20190813T093909Z
UID:38572-1566579600-1566590400@mont-roig.cat
SUMMARY:Taller DIY cartells de fusta
DESCRIPTION:Tarda divertida de manualitats!
URL:https://mont-roig.cat/acte/taller-diy-cartells-de-fusta/
LOCATION:Casal de Joves K1\, c/ Aureli Escarré\, Mont-roig del Camp
CATEGORIES:Joventut
ATTACH;FMTTYPE=image/png:https://mont-roig.cat/wp-content/uploads/DIY-fustes_2.png
GEO:41.07825;0.9768931
X-APPLE-STRUCTURED-LOCATION;VALUE=URI;X-ADDRESS=Casal de Joves K1 c/ Aureli Escarré Mont-roig del Camp;X-APPLE-RADIUS=500;X-TITLE=c/ Aureli Escarré:geo:0.9768931,41.07825
END:VEVENT
END:VCALENDAR