BEGIN:VCALENDAR
VERSION:2.0
PRODID:-//Ajuntament de Mont-roig del Camp - ECPv5.16.3.1//NONSGML v1.0//EN
CALSCALE:GREGORIAN
METHOD:PUBLISH
X-WR-CALNAME:Ajuntament de Mont-roig del Camp
X-ORIGINAL-URL:https://mont-roig.cat
X-WR-CALDESC:Esdeveniments per Ajuntament de Mont-roig del Camp
BEGIN:VTIMEZONE
TZID:Europe/Madrid
BEGIN:DAYLIGHT
TZOFFSETFROM:+0100
TZOFFSETTO:+0200
TZNAME:CEST
DTSTART:20190331T010000
END:DAYLIGHT
BEGIN:STANDARD
TZOFFSETFROM:+0200
TZOFFSETTO:+0100
TZNAME:CET
DTSTART:20191027T010000
END:STANDARD
END:VTIMEZONE
BEGIN:VEVENT
DTSTART;VALUE=DATE:20190913
DTEND;VALUE=DATE:20190915
DTSTAMP:20260420T200001
CREATED:20190912T115435Z
LAST-MODIFIED:20190912T115435Z
UID:38856-1568332800-1568505599@mont-roig.cat
SUMMARY:Botigues al carrer
DESCRIPTION:
URL:https://mont-roig.cat/acte/botigues-al-carrer/
LOCATION:Avinguda Barcelona\, Avinguda Barcelona\, Miami Platja 
CATEGORIES:Ajuntament,Impuls Econòmic i Ocupació
ATTACH;FMTTYPE=image/jpeg:https://mont-roig.cat/wp-content/uploads/Botigues-al-carrer-4.jpg
GEO:41.009761;0.9396429
X-APPLE-STRUCTURED-LOCATION;VALUE=URI;X-ADDRESS=Avinguda Barcelona Avinguda Barcelona Miami Platja;X-APPLE-RADIUS=500;X-TITLE=Avinguda Barcelona:geo:0.9396429,41.009761
END:VEVENT
END:VCALENDAR