BEGIN:VCALENDAR
VERSION:2.0
PRODID:-//Ajuntament de Mont-roig del Camp - ECPv5.16.3.1//NONSGML v1.0//EN
CALSCALE:GREGORIAN
METHOD:PUBLISH
X-WR-CALNAME:Ajuntament de Mont-roig del Camp
X-ORIGINAL-URL:https://mont-roig.cat
X-WR-CALDESC:Esdeveniments per Ajuntament de Mont-roig del Camp
BEGIN:VTIMEZONE
TZID:Europe/Madrid
BEGIN:DAYLIGHT
TZOFFSETFROM:+0100
TZOFFSETTO:+0200
TZNAME:CEST
DTSTART:20190331T010000
END:DAYLIGHT
BEGIN:STANDARD
TZOFFSETFROM:+0200
TZOFFSETTO:+0100
TZNAME:CET
DTSTART:20191027T010000
END:STANDARD
END:VTIMEZONE
BEGIN:VEVENT
DTSTART;VALUE=DATE:20190915
DTEND;VALUE=DATE:20191007
DTSTAMP:20260419T203119
CREATED:20190830T073347Z
LAST-MODIFIED:20190830T073347Z
UID:38713-1568505600-1570406399@mont-roig.cat
SUMMARY:Exposició Amparo Poch y Gascón
DESCRIPTION:Exposició Amparo Poch y Gascón. Commemoració del cinquantenari de la mort d’Amparo Poch y Gascón. \n*Exposició concedida pel Servei de Biblioteques Públiques de Catalunya
URL:https://mont-roig.cat/acte/exposicio-amparo-poch-y-gascon/
LOCATION:Biblioteca Miramar\, Carrer Soria\, 16\, Miami Platja\, Tarragona\, 43892\, Spain
CATEGORIES:Ajuntament,Biblioteca
ATTACH;FMTTYPE=image/jpeg:https://mont-roig.cat/wp-content/uploads/Exposició-Dra-Poch.jpg
GEO:41.0027012;0.9276747
X-APPLE-STRUCTURED-LOCATION;VALUE=URI;X-ADDRESS=Biblioteca Miramar Carrer Soria 16 Miami Platja Tarragona 43892 Spain;X-APPLE-RADIUS=500;X-TITLE=Carrer Soria\, 16:geo:0.9276747,41.0027012
END:VEVENT
BEGIN:VEVENT
DTSTART;TZID=Europe/Madrid:20190917T160000
DTEND;TZID=Europe/Madrid:20190920T200000
DTSTAMP:20260419T203119
CREATED:20190830T073732Z
LAST-MODIFIED:20190918T051634Z
UID:38721-1568736000-1569009600@mont-roig.cat
SUMMARY:Taller DIY Photocall Pànic
DESCRIPTION:Arranquem la programació del Pànic 2019. Tota la teva destresa i els teus pensaments més macabres ens seran d’ajuda per realitzar el photocall que servirà per celebrar els 10 anys del programa Pànic.
URL:https://mont-roig.cat/acte/taller-diy-photocall-panic/
LOCATION:Casal de Joves K1\, c/ Aureli Escarré\, Mont-roig del Camp
CATEGORIES:Ajuntament,Joventut
ATTACH;FMTTYPE=image/jpeg:https://mont-roig.cat/wp-content/uploads/Taller-DIY-panic.jpg
GEO:41.07825;0.9768931
X-APPLE-STRUCTURED-LOCATION;VALUE=URI;X-ADDRESS=Casal de Joves K1 c/ Aureli Escarré Mont-roig del Camp;X-APPLE-RADIUS=500;X-TITLE=c/ Aureli Escarré:geo:0.9768931,41.07825
END:VEVENT
BEGIN:VEVENT
DTSTART;TZID=Europe/Madrid:20190918T100000
DTEND;TZID=Europe/Madrid:20190918T120000
DTSTAMP:20260419T203119
CREATED:20190712T095344Z
LAST-MODIFIED:20190712T095344Z
UID:37992-1568800800-1568808000@mont-roig.cat
SUMMARY:Servei d'atenció al consumidor
DESCRIPTION:
URL:https://mont-roig.cat/acte/servei-datencio-al-consumidor-3/2019-09-18/
LOCATION:l’Espai
CATEGORIES:Ajuntament,Impuls Econòmic i Ocupació
ATTACH;FMTTYPE=image/jpeg:https://mont-roig.cat/wp-content/uploads/Oficina-Comarcal-Consum_.jpg
END:VEVENT
BEGIN:VEVENT
DTSTART;TZID=Europe/Madrid:20190918T190000
DTEND;TZID=Europe/Madrid:20190918T203000
DTSTAMP:20260419T203119
CREATED:20190830T073901Z
LAST-MODIFIED:20190830T073901Z
UID:38723-1568833200-1568838600@mont-roig.cat
SUMMARY:Tastavins i Tastamots
DESCRIPTION:Aproximació al món del vi\, combinant-lo amb tot un reguitzell de jocs de paraules. Entre tast i tast\, entre explicació i explicació\, els assistents jugaran a enigmes de paraules relacionades amb els vins. \nActivitat patrocinada pel Servei de Biblioteques de la Generalitat de Catalunya. \nCol·labora: DO Tarragona.
URL:https://mont-roig.cat/acte/tastavins-i-tastamots/
LOCATION:Biblioteca Miramar\, Carrer Soria\, 16\, Miami Platja\, Tarragona\, 43892\, Spain
CATEGORIES:Ajuntament,Biblioteca
ATTACH;FMTTYPE=image/jpeg:https://mont-roig.cat/wp-content/uploads/Taller-tastavins-i-tasta-mots.jpg
GEO:41.0027012;0.9276747
X-APPLE-STRUCTURED-LOCATION;VALUE=URI;X-ADDRESS=Biblioteca Miramar Carrer Soria 16 Miami Platja Tarragona 43892 Spain;X-APPLE-RADIUS=500;X-TITLE=Carrer Soria\, 16:geo:0.9276747,41.0027012
END:VEVENT
END:VCALENDAR