BEGIN:VCALENDAR
VERSION:2.0
PRODID:-//Ajuntament de Mont-roig del Camp - ECPv5.16.3.1//NONSGML v1.0//EN
CALSCALE:GREGORIAN
METHOD:PUBLISH
X-WR-CALNAME:Ajuntament de Mont-roig del Camp
X-ORIGINAL-URL:https://mont-roig.cat
X-WR-CALDESC:Esdeveniments per Ajuntament de Mont-roig del Camp
BEGIN:VTIMEZONE
TZID:Europe/Madrid
BEGIN:DAYLIGHT
TZOFFSETFROM:+0100
TZOFFSETTO:+0200
TZNAME:CEST
DTSTART:20190331T010000
END:DAYLIGHT
BEGIN:STANDARD
TZOFFSETFROM:+0200
TZOFFSETTO:+0100
TZNAME:CET
DTSTART:20191027T010000
END:STANDARD
END:VTIMEZONE
BEGIN:VEVENT
DTSTART;TZID=Europe/Madrid:20191229T103000
DTEND;TZID=Europe/Madrid:20191229T120000
DTSTAMP:20260423T035853
CREATED:20191122T131556Z
LAST-MODIFIED:20191223T135157Z
UID:40696-1577615400-1577620800@mont-roig.cat
SUMMARY:Cursa dels Nassos i Nassets
DESCRIPTION:Cursa popular en recorregut per circuit mixt de 5\,19 Km i 84 metres de desnivell positiu. \nCursa dels Nassos: \nLa sortida tindrà lloc a les 10:30 h. al Pavelló Poliesportiu de Mont-roig del Camp\, ubicat al C/ Aureli Maria Escarré\, 3; i en finalitzar\, tindrà lloc la Cursa dels Nassets\, una cursa infantil dedicada als esportistes més petits\, apta per a tots els infants que hi vulguin participar. El recorregut es realitzarà pels carrers del municipi. \nInscripcions a: \nhttps://www.kupeka.com/eventos/95/cursa-dels-nassos-2019\nPreu inscripcions: \n\nSoci del C.E. l’Areny: 8\,00 €\nNo socis: 10\,00 €\n\nCursa dels Nassets: \nInscripcions al mateix dia de la cursa\nPreu: 1\,00 € \nOrganitza Club Esportiu l’Areny. \n  \n 
URL:https://mont-roig.cat/acte/cursa-dels-nassos-i-nassets/
LOCATION:Poliesportiu de Mont-roig del Camp\, Carrer Aureli Maria Escarré\, 3\, Mont-roig del Camp\, Tarragona\, 43300\, Spain
CATEGORIES:Ajuntament,Esports
ATTACH;FMTTYPE=image/jpeg:https://mont-roig.cat/wp-content/uploads/cursadelsnassosinassets.jpg
GEO:41.0865513;0.9606138
X-APPLE-STRUCTURED-LOCATION;VALUE=URI;X-ADDRESS=Poliesportiu de Mont-roig del Camp Carrer Aureli Maria Escarré 3 Mont-roig del Camp Tarragona 43300 Spain;X-APPLE-RADIUS=500;X-TITLE=Carrer Aureli Maria Escarré\, 3:geo:0.9606138,41.0865513
END:VEVENT
BEGIN:VEVENT
DTSTART;TZID=Europe/Madrid:20191229T180000
DTEND;TZID=Europe/Madrid:20191229T190000
DTSTAMP:20260423T035853
CREATED:20191122T131901Z
LAST-MODIFIED:20191126T092534Z
UID:40698-1577642400-1577646000@mont-roig.cat
SUMMARY:Espectacle "Sueño de hilos"
DESCRIPTION:A càrrec de la Cia. Saga. \nExplica la història d’una titella humana que agafa vida a través dels fils. Amb molta suavitat i precisió de la seva manipuladora la mou amb delicadesa transportant a l’espectador a un món màgic i misteriós. Basat en un treball de cos i moviment\, les xanques i el teatre físic s’integren com a llenguatge escènic dins de l’espectacle. \n 
URL:https://mont-roig.cat/acte/espectacle-itinerant-sueno-de-hilos-de-la-companyia-saga/
LOCATION:Plaça Mossèn Gaietà Ivern\, Plaça Mossèn Gaietà Ivern\, Mont-roig del Camp\, Tarragona\, 43300\, Spain
CATEGORIES:Ajuntament,Festes
ATTACH;FMTTYPE=image/jpeg:https://mont-roig.cat/wp-content/uploads/PROGRAMA_NADAL_mont-roig_19_rev03_page-0001.jpg
GEO:41.0880839;0.9576999
X-APPLE-STRUCTURED-LOCATION;VALUE=URI;X-ADDRESS=Plaça Mossèn Gaietà Ivern Plaça Mossèn Gaietà Ivern Mont-roig del Camp Tarragona 43300 Spain;X-APPLE-RADIUS=500;X-TITLE=Plaça Mossèn Gaietà Ivern:geo:0.9576999,41.0880839
END:VEVENT
BEGIN:VEVENT
DTSTART;TZID=Europe/Madrid:20191229T180000
DTEND;TZID=Europe/Madrid:20191229T210000
DTSTAMP:20260423T035853
CREATED:20191122T132209Z
LAST-MODIFIED:20191125T070035Z
UID:40700-1577642400-1577653200@mont-roig.cat
SUMMARY:Pessebre Vivent i recollida de cartes
DESCRIPTION:Durant la tarda hi haurà els Emissaris de Ses Majestats els Reis Mags d’Orient que recolliran les cartes.
URL:https://mont-roig.cat/acte/pessebre-vivent-i-recollida-de-cartes-3/
LOCATION:Parc de les Oliveres
CATEGORIES:Ajuntament,Festes
ATTACH;FMTTYPE=image/jpeg:https://mont-roig.cat/wp-content/uploads/PROGRAMA_NADAL_MIAMI_19_rev03_page-0001.jpg
END:VEVENT
END:VCALENDAR