BEGIN:VCALENDAR
VERSION:2.0
PRODID:-//Ajuntament de Mont-roig del Camp - ECPv5.16.3.1//NONSGML v1.0//EN
CALSCALE:GREGORIAN
METHOD:PUBLISH
X-WR-CALNAME:Ajuntament de Mont-roig del Camp
X-ORIGINAL-URL:https://mont-roig.cat
X-WR-CALDESC:Esdeveniments per Ajuntament de Mont-roig del Camp
BEGIN:VTIMEZONE
TZID:Europe/Madrid
BEGIN:DAYLIGHT
TZOFFSETFROM:+0100
TZOFFSETTO:+0200
TZNAME:CEST
DTSTART:20190331T010000
END:DAYLIGHT
BEGIN:STANDARD
TZOFFSETFROM:+0200
TZOFFSETTO:+0100
TZNAME:CET
DTSTART:20191027T010000
END:STANDARD
END:VTIMEZONE
BEGIN:VEVENT
DTSTART;TZID=Europe/Madrid:20191230T173000
DTEND;TZID=Europe/Madrid:20191230T183000
DTSTAMP:20260422T132104
CREATED:20191122T132755Z
LAST-MODIFIED:20191230T145433Z
UID:40702-1577727000-1577730600@mont-roig.cat
SUMMARY:Teatre "El Trencanous" a Mont-roig
DESCRIPTION:Conte teatralitzat a càrrec de la Companyia Sàndal Produccions\, en què una joguina que la Marie Stahlbaum rep la nit de Nadal\, el Trencanous\, que ben aviat cobrarà vida. Després de derrotar al Rei dels Ratolins en una dura batalla\, portarà a la Marie a un regne màgic poblat per ninots. \nApte per a tots els públics\, especialment per infants d’entre els 0 i els 7 anys. \n 
URL:https://mont-roig.cat/acte/el-trencanous-a-carrec-de-la-companyia-sandal-produccions/
LOCATION:Centre Cultural Església Vella\, Carrer Major\, 2\, Mont-roig del Camp\, Tarragona\, 43300\, Spain
CATEGORIES:Ajuntament,Festes
ATTACH;FMTTYPE=image/jpeg:https://mont-roig.cat/wp-content/uploads/PROGRAMA_NADAL_mont-roig_19_rev03_page-0001.jpg
GEO:41.0877788;0.958854
X-APPLE-STRUCTURED-LOCATION;VALUE=URI;X-ADDRESS=Centre Cultural Església Vella Carrer Major 2 Mont-roig del Camp Tarragona 43300 Spain;X-APPLE-RADIUS=500;X-TITLE=Carrer Major\, 2:geo:0.958854,41.0877788
END:VEVENT
BEGIN:VEVENT
DTSTART;TZID=Europe/Madrid:20191230T190000
DTEND;TZID=Europe/Madrid:20191230T200000
DTSTAMP:20260422T132104
CREATED:20191122T133258Z
LAST-MODIFIED:20191230T145639Z
UID:40710-1577732400-1577736000@mont-roig.cat
SUMMARY:Teatre "El Trencanous" a Miami Platja
DESCRIPTION:Conte teatralitzat a càrrec de la Companyia Sàndal Produccions\, en què una joguina que la Marie Stahlbaum rep la nit de Nadal\, el Trencanous\, que ben aviat cobrarà vida. Després de derrotar al Rei dels Ratolins en una dura batalla\, portarà a la Marie a un regne màgic poblat per ninots. \nApte per a tots els públics\, especialment per infants d’entre els 0 i els 7 anys.
URL:https://mont-roig.cat/acte/teatre-el-trencanous-a-miami-platja/
LOCATION:Centre Polivalent Sant Jaume\, Carrer de Sòria\, 18\, Miami Platja\, Tarragona\, 43892\, Spain
CATEGORIES:Ajuntament,Festes
ATTACH;FMTTYPE=image/jpeg:https://mont-roig.cat/wp-content/uploads/PROGRAMA_NADAL_MIAMI_19_rev03_page-0001.jpg
END:VEVENT
END:VCALENDAR