BEGIN:VCALENDAR
VERSION:2.0
PRODID:-//Ajuntament de Mont-roig del Camp - ECPv5.16.3.1//NONSGML v1.0//EN
CALSCALE:GREGORIAN
METHOD:PUBLISH
X-WR-CALNAME:Ajuntament de Mont-roig del Camp
X-ORIGINAL-URL:https://mont-roig.cat
X-WR-CALDESC:Esdeveniments per Ajuntament de Mont-roig del Camp
BEGIN:VTIMEZONE
TZID:Europe/Madrid
BEGIN:DAYLIGHT
TZOFFSETFROM:+0100
TZOFFSETTO:+0200
TZNAME:CEST
DTSTART:20200329T010000
END:DAYLIGHT
BEGIN:STANDARD
TZOFFSETFROM:+0200
TZOFFSETTO:+0100
TZNAME:CET
DTSTART:20201025T010000
END:STANDARD
END:VTIMEZONE
BEGIN:VEVENT
DTSTART;TZID=Europe/Madrid:20200618T150000
DTEND;TZID=Europe/Madrid:20200618T170000
DTSTAMP:20260421T180651
CREATED:20200610T102623Z
LAST-MODIFIED:20200610T102731Z
UID:48724-1592492400-1592499600@mont-roig.cat
SUMMARY:Webinar Sector Turístic
DESCRIPTION:La formació repassarà\, de forma específica i segons cada cas\, les principals mesures de prevenció contra la Covid19 que aquests establiments han de tenir en compte en el desenvolupament de la seva activitat. \nEls webinars donaran a les empreses i autònoms d’aquest àmbit informació important en matèria de seguretat i higiene\, obligacions i drets laborals\, normatives i ajudes econòmiques a les quals es poden acollir\, entre d’altres.
URL:https://mont-roig.cat/acte/webinar-sector-turistic/
CATEGORIES:Ajuntament,Impuls Econòmic i Ocupació
ATTACH;FMTTYPE=image/jpeg:https://mont-roig.cat/wp-content/uploads/Cartell_webinar-TURÍSTICS_juny_page-0001.jpg
END:VEVENT
END:VCALENDAR