BEGIN:VCALENDAR
VERSION:2.0
PRODID:-//Ajuntament de Mont-roig del Camp - ECPv5.16.3.1//NONSGML v1.0//EN
CALSCALE:GREGORIAN
METHOD:PUBLISH
X-WR-CALNAME:Ajuntament de Mont-roig del Camp
X-ORIGINAL-URL:https://mont-roig.cat
X-WR-CALDESC:Esdeveniments per Ajuntament de Mont-roig del Camp
BEGIN:VTIMEZONE
TZID:Europe/Madrid
BEGIN:DAYLIGHT
TZOFFSETFROM:+0100
TZOFFSETTO:+0200
TZNAME:CEST
DTSTART:20200329T010000
END:DAYLIGHT
BEGIN:STANDARD
TZOFFSETFROM:+0200
TZOFFSETTO:+0100
TZNAME:CET
DTSTART:20201025T010000
END:STANDARD
END:VTIMEZONE
BEGIN:VEVENT
DTSTART;TZID=Europe/Madrid:20201209T163000
DTEND;TZID=Europe/Madrid:20201209T190000
DTSTAMP:20260423T194125
CREATED:20201119T132527Z
LAST-MODIFIED:20201119T132527Z
UID:52596-1607531400-1607540400@mont-roig.cat
SUMMARY:Inici Curs treballadors auxiliars d'horticultura i viverisme convencional i ecològic
DESCRIPTION:En el marc del programa de Formació 2020\, s’ofereix el curs treballadors auxiliars d’horticultura i viverisme convencional i ecològic on-line\, que es realitzarà de 16.30 a 19 h. els dimecres i divendres de desembre i gener del 2021\, amb un total de 25 hores. \nCurs gratuït amb fiança de 60\,00 € \nInscripcions o més informació a: promocio@mont-roig.cat o al telèfon 977 172 527
URL:https://mont-roig.cat/acte/inici-curs-treballadors-auxiliars-dhorticultura-i-viverisme-convencional-i-ecologic/
END:VEVENT
BEGIN:VEVENT
DTSTART;TZID=Europe/Madrid:20201209T183000
DTEND;TZID=Europe/Madrid:20201209T200000
DTSTAMP:20260423T194125
CREATED:20201204T082728Z
LAST-MODIFIED:20201204T082728Z
UID:52783-1607538600-1607544000@mont-roig.cat
SUMMARY:Sessió virtual divulgativa La Marató de Tv3 sobre la COVID-19
DESCRIPTION:Les biblioteques Joan Miró i Miramar han preparat una programació especial per aquestes festes nadalenques. \nLes activitats començaran el dia 9 de desembre amb un acte de la Marató de TV3\, aquest any dedicada a la COVID. Així el dia 9\, a les 18.30 es podrà seguir la xerrada divulgativa sobre la realitat mèdica i humana de la pandèmia a càrrec de Clàudia Vallès. \nLa xerrada va dirigida sobretot als més joves\, però està oberta a tota la ciutadania. \nPer tenir accés a la xerrada cal inscripció prèvia al correu electrònic de les biblioteques biblioteca@mont-roig.cat.
URL:https://mont-roig.cat/acte/sessio-virtual-divulgativa-la-marato-de-tv3-sobre-la-covid-19/
CATEGORIES:Cultura
END:VEVENT
END:VCALENDAR