BEGIN:VCALENDAR
VERSION:2.0
PRODID:-//Ajuntament de Mont-roig del Camp - ECPv5.16.3.1//NONSGML v1.0//EN
CALSCALE:GREGORIAN
METHOD:PUBLISH
X-WR-CALNAME:Ajuntament de Mont-roig del Camp
X-ORIGINAL-URL:https://mont-roig.cat
X-WR-CALDESC:Esdeveniments per Ajuntament de Mont-roig del Camp
BEGIN:VTIMEZONE
TZID:Europe/Madrid
BEGIN:DAYLIGHT
TZOFFSETFROM:+0100
TZOFFSETTO:+0200
TZNAME:CEST
DTSTART:20200329T010000
END:DAYLIGHT
BEGIN:STANDARD
TZOFFSETFROM:+0200
TZOFFSETTO:+0100
TZNAME:CET
DTSTART:20201025T010000
END:STANDARD
END:VTIMEZONE
BEGIN:VEVENT
DTSTART;TZID=Europe/Madrid:20201215T170000
DTEND;TZID=Europe/Madrid:20201215T183000
DTSTAMP:20260423T194129
CREATED:20201204T081505Z
LAST-MODIFIED:20201204T082143Z
UID:52774-1608051600-1608057000@mont-roig.cat
SUMMARY:Taller virtual Fanalets de Nadal
DESCRIPTION:Les biblioteques Joan Miró i Miramar han preparat una programació especial per aquestes festes nadalenques. \nLa programació inclou també activitats infantil com un taller per construir fanalets de Nadal el dia 15 de desembre a les 17 h\, en aquest cas podeu inscriure’s a biblioteca@mont-roig.cat per aconseguir el material necessari per fer el taller a casa. \nL’activitat es podrà seguir a través del Facebook de les biblioteques i del Canal Youtube de l’Ajuntament.
URL:https://mont-roig.cat/acte/taller-virtual-fanalets-de-nadal/
CATEGORIES:Cultura
END:VEVENT
END:VCALENDAR