BEGIN:VCALENDAR
VERSION:2.0
PRODID:-//Ajuntament de Mont-roig del Camp - ECPv5.16.3.1//NONSGML v1.0//EN
CALSCALE:GREGORIAN
METHOD:PUBLISH
X-WR-CALNAME:Ajuntament de Mont-roig del Camp
X-ORIGINAL-URL:https://mont-roig.cat
X-WR-CALDESC:Esdeveniments per Ajuntament de Mont-roig del Camp
BEGIN:VTIMEZONE
TZID:Europe/Madrid
BEGIN:DAYLIGHT
TZOFFSETFROM:+0100
TZOFFSETTO:+0200
TZNAME:CEST
DTSTART:20210328T010000
END:DAYLIGHT
BEGIN:STANDARD
TZOFFSETFROM:+0200
TZOFFSETTO:+0100
TZNAME:CET
DTSTART:20211031T010000
END:STANDARD
END:VTIMEZONE
BEGIN:VEVENT
DTSTART;TZID=Europe/Madrid:20210226T190000
DTEND;TZID=Europe/Madrid:20210226T200000
DTSTAMP:20260423T175243
CREATED:20210223T133032Z
LAST-MODIFIED:20210223T133032Z
UID:53990-1614366000-1614369600@mont-roig.cat
SUMMARY:Connecta't Jove
DESCRIPTION:La primera sessió del Connecta’t Jove s’iniciarà aquest divendres 26 de febrer a les 19.00 h amb una sessió d’iniciació al ioga dirigida per la jove de Mont-roig Xènia Toda al canal d’Instagram de Joventut.
URL:https://mont-roig.cat/acte/connectat-jove/
CATEGORIES:Joventut
END:VEVENT
END:VCALENDAR