BEGIN:VCALENDAR
VERSION:2.0
PRODID:-//Ajuntament de Mont-roig del Camp - ECPv5.16.3.1//NONSGML v1.0//EN
CALSCALE:GREGORIAN
METHOD:PUBLISH
X-WR-CALNAME:Ajuntament de Mont-roig del Camp
X-ORIGINAL-URL:https://mont-roig.cat
X-WR-CALDESC:Esdeveniments per Ajuntament de Mont-roig del Camp
BEGIN:VTIMEZONE
TZID:Europe/Madrid
BEGIN:DAYLIGHT
TZOFFSETFROM:+0100
TZOFFSETTO:+0200
TZNAME:CEST
DTSTART:20210328T010000
END:DAYLIGHT
BEGIN:STANDARD
TZOFFSETFROM:+0200
TZOFFSETTO:+0100
TZNAME:CET
DTSTART:20211031T010000
END:STANDARD
END:VTIMEZONE
BEGIN:VEVENT
DTSTART;TZID=Europe/Madrid:20210312T193000
DTEND;TZID=Europe/Madrid:20210312T200000
DTSTAMP:20260423T093525
CREATED:20210309T080618Z
LAST-MODIFIED:20210309T080803Z
UID:54200-1615577400-1615579200@mont-roig.cat
SUMMARY:Connecta't Jove - Vull ser Au Pair
DESCRIPTION:Aquest divendres 12 a Connecta’t Jove l’Angie Alosnso ens explica la seva experiència fent d’Au Pair als Estats Units. \nCom va començar la seva experiència?\, Amb quina empresa ho va realitzar?\, Amb quina edat?\, si tens qualsevol dubte sobre el tema\, Connecta’t. \nDivendres 12 de març a les 19.30 h al perfil d’Instagram de Joventut @casaljovek1ik2
URL:https://mont-roig.cat/acte/connectat-jove-vull-ser-au-pair/
CATEGORIES:Joventut
END:VEVENT
END:VCALENDAR