BEGIN:VCALENDAR
VERSION:2.0
PRODID:-//Ajuntament de Mont-roig del Camp - ECPv5.16.3.1//NONSGML v1.0//EN
CALSCALE:GREGORIAN
METHOD:PUBLISH
X-WR-CALNAME:Ajuntament de Mont-roig del Camp
X-ORIGINAL-URL:https://mont-roig.cat
X-WR-CALDESC:Esdeveniments per Ajuntament de Mont-roig del Camp
BEGIN:VTIMEZONE
TZID:Europe/Madrid
BEGIN:DAYLIGHT
TZOFFSETFROM:+0100
TZOFFSETTO:+0200
TZNAME:CEST
DTSTART:20210328T010000
END:DAYLIGHT
BEGIN:STANDARD
TZOFFSETFROM:+0200
TZOFFSETTO:+0100
TZNAME:CET
DTSTART:20211031T010000
END:STANDARD
END:VTIMEZONE
BEGIN:VEVENT
DTSTART;VALUE=DATE:20210325
DTEND;VALUE=DATE:20210326
DTSTAMP:20260423T093551
CREATED:20210302T133922Z
LAST-MODIFIED:20210302T133922Z
UID:54109-1616630400-1616716799@mont-roig.cat
SUMMARY:Monòlegs contra el masclisme
DESCRIPTION:Dintre de la programació especial del Dia Internacional de la Dona 8M\, es realitza els Monòlegs a l’aula contra el masclisme amb l’alumnat de 4rt d’ESO de l’Institut Miami. \nA càrrec de la companyia Nus teatre.
URL:https://mont-roig.cat/acte/monolegs-contra-el-masclisme/
CATEGORIES:Cultura
END:VEVENT
END:VCALENDAR