BEGIN:VCALENDAR
VERSION:2.0
PRODID:-//Ajuntament de Mont-roig del Camp - ECPv5.16.3.1//NONSGML v1.0//EN
CALSCALE:GREGORIAN
METHOD:PUBLISH
X-WR-CALNAME:Ajuntament de Mont-roig del Camp
X-ORIGINAL-URL:https://mont-roig.cat
X-WR-CALDESC:Esdeveniments per Ajuntament de Mont-roig del Camp
BEGIN:VTIMEZONE
TZID:Europe/Madrid
BEGIN:DAYLIGHT
TZOFFSETFROM:+0100
TZOFFSETTO:+0200
TZNAME:CEST
DTSTART:20210328T010000
END:DAYLIGHT
BEGIN:STANDARD
TZOFFSETFROM:+0200
TZOFFSETTO:+0100
TZNAME:CET
DTSTART:20211031T010000
END:STANDARD
END:VTIMEZONE
BEGIN:VEVENT
DTSTART;TZID=Europe/Madrid:20210326T170000
DTEND;TZID=Europe/Madrid:20210326T190000
DTSTAMP:20260423T163314
CREATED:20210309T075237Z
LAST-MODIFIED:20210309T075237Z
UID:54196-1616778000-1616785200@mont-roig.cat
SUMMARY:Campanya de donació de sang a Mont-roig
DESCRIPTION:Mont-roig tornarà a acollir una nova campanya de donació de sang el 26 de març. \n\nLloc: Casal de Joves k1 de Mont-roig\nHorari: Entre les 17 i les 21 h.\n\nPots demanar hora per fer la donació a la web www.donarsang.gencat.cat .
URL:https://mont-roig.cat/acte/campanya-de-donacio-de-sang-a-mont-roig-2/
END:VEVENT
END:VCALENDAR