BEGIN:VCALENDAR
VERSION:2.0
PRODID:-//Ajuntament de Mont-roig del Camp - ECPv5.16.3.1//NONSGML v1.0//EN
CALSCALE:GREGORIAN
METHOD:PUBLISH
X-WR-CALNAME:Ajuntament de Mont-roig del Camp
X-ORIGINAL-URL:https://mont-roig.cat
X-WR-CALDESC:Esdeveniments per Ajuntament de Mont-roig del Camp
BEGIN:VTIMEZONE
TZID:Europe/Madrid
BEGIN:DAYLIGHT
TZOFFSETFROM:+0100
TZOFFSETTO:+0200
TZNAME:CEST
DTSTART:20210328T010000
END:DAYLIGHT
BEGIN:STANDARD
TZOFFSETFROM:+0200
TZOFFSETTO:+0100
TZNAME:CET
DTSTART:20211031T010000
END:STANDARD
END:VTIMEZONE
BEGIN:VEVENT
DTSTART;TZID=Europe/Madrid:20210602T160000
DTEND;TZID=Europe/Madrid:20210602T170000
DTSTAMP:20260423T015956
CREATED:20210415T112459Z
LAST-MODIFIED:20210415T112459Z
UID:54964-1622649600-1622653200@mont-roig.cat
SUMMARY:Workshop Jove amb esquiades.com i buscounchollo.com
DESCRIPTION:Workshop Jove amb Esquiades.com i Buscounchollo.com \nDilluns 2 de juny de 16 a 17 h. \nSi estàs interessat/ada a participar-hi\, pots enviar un e-mail amb les teves dades: Nom i cognoms\, DNI\, correu electrònic i núm. de telèfon a promocio@mont-roig.cat \, o bé truca al 977 17 25 27
URL:https://mont-roig.cat/acte/workshop-jove-amb-esquiades-com-i-buscounchollo-com/
CATEGORIES:Impuls Econòmic i Ocupació
END:VEVENT
BEGIN:VEVENT
DTSTART;TZID=Europe/Madrid:20210602T180000
DTEND;TZID=Europe/Madrid:20210602T193000
DTSTAMP:20260423T015956
CREATED:20210531T064852Z
LAST-MODIFIED:20210531T072150Z
UID:55786-1622656800-1622662200@mont-roig.cat
SUMMARY:Contes i més Contes
DESCRIPTION:Programació de juny de les Biblioteques Municipals \nBiblioteca Joan Miró \n\nContes i més contes: l’ Ànec emmurriat\nDimecres dia 2 de juny a les 18 h (Infantil)\n\nBiblioteca Miaramar \n\nContes i més contes: En Ferran es fa amic del sol\nDimecres dia 2 de juny a les 18 h (Infantil)
URL:https://mont-roig.cat/acte/lanec-emmurriat/
CATEGORIES:Cultura
END:VEVENT
END:VCALENDAR