BEGIN:VCALENDAR
VERSION:2.0
PRODID:-//Ajuntament de Mont-roig del Camp - ECPv5.16.3.1//NONSGML v1.0//EN
CALSCALE:GREGORIAN
METHOD:PUBLISH
X-WR-CALNAME:Ajuntament de Mont-roig del Camp
X-ORIGINAL-URL:https://mont-roig.cat
X-WR-CALDESC:Esdeveniments per Ajuntament de Mont-roig del Camp
BEGIN:VTIMEZONE
TZID:Europe/Madrid
BEGIN:DAYLIGHT
TZOFFSETFROM:+0100
TZOFFSETTO:+0200
TZNAME:CEST
DTSTART:20210328T010000
END:DAYLIGHT
BEGIN:STANDARD
TZOFFSETFROM:+0200
TZOFFSETTO:+0100
TZNAME:CET
DTSTART:20211031T010000
END:STANDARD
END:VTIMEZONE
BEGIN:VEVENT
DTSTART;TZID=Europe/Madrid:20210605T110000
DTEND;TZID=Europe/Madrid:20210605T190000
DTSTAMP:20260422T223142
CREATED:20210531T120651Z
LAST-MODIFIED:20210531T120651Z
UID:55808-1622890800-1622919600@mont-roig.cat
SUMMARY:ReparaTruck a Mont-roig i Miami Platja
DESCRIPTION:La ReparaTruck torna a fer parada a Mont-roig i a Miami Platja per fomentar la reparació d’aparells i objectes. \nAquest vehicle preparat amb les eines adequades per fer les reparacions més habituals de petits electrodomèstics\, ens ajudarà a allargar-ne la vida útil i evitar la generació de residus. \nLa trobaràs dissabte 5 de juny d’11 a 14 h al carrer Aureli Escarré\, de Mont-roig\, i de 16 a 19 h a la Plaça Tarragona de Miami Platja. \nLes visites d’aquest servei mòbil i gratuït es reprenen cada dos mesos per fomentar un canvi en els hàbits de consum dels veïns i veïnes.
URL:https://mont-roig.cat/acte/reparatruck-a-mont-roig-i-miami-platja/
CATEGORIES:Recollida residus
END:VEVENT
END:VCALENDAR