BEGIN:VCALENDAR
VERSION:2.0
PRODID:-//Ajuntament de Mont-roig del Camp - ECPv5.16.3.1//NONSGML v1.0//EN
CALSCALE:GREGORIAN
METHOD:PUBLISH
X-WR-CALNAME:Ajuntament de Mont-roig del Camp
X-ORIGINAL-URL:https://mont-roig.cat
X-WR-CALDESC:Esdeveniments per Ajuntament de Mont-roig del Camp
BEGIN:VTIMEZONE
TZID:Europe/Madrid
BEGIN:DAYLIGHT
TZOFFSETFROM:+0100
TZOFFSETTO:+0200
TZNAME:CEST
DTSTART:20210328T010000
END:DAYLIGHT
BEGIN:STANDARD
TZOFFSETFROM:+0200
TZOFFSETTO:+0100
TZNAME:CET
DTSTART:20211031T010000
END:STANDARD
END:VTIMEZONE
BEGIN:VEVENT
DTSTART;TZID=Europe/Madrid:20210606T090000
DTEND;TZID=Europe/Madrid:20210606T133000
DTSTAMP:20260423T044126
CREATED:20210604T110133Z
LAST-MODIFIED:20210604T110133Z
UID:55958-1622970000-1622986200@mont-roig.cat
SUMMARY:Expedició Mont-roig
DESCRIPTION:L’Escola de famílies us proposa un joc de pistes i d’orientació que us portarà a recórrer diversos camins i senders al voltant de l’Ermita Mare de Déu de la Roca. \n\nExpedició Mont-roig\nInscripció a educacio@mont-roig.cat\nHora d’inici de les 9 a les 11 h\nPlaces limitades
URL:https://mont-roig.cat/acte/expedicio-mont-roig/
LOCATION:Ermita Mare de Déu de la Roca
CATEGORIES:Educació
END:VEVENT
END:VCALENDAR