BEGIN:VCALENDAR
VERSION:2.0
PRODID:-//Ajuntament de Mont-roig del Camp - ECPv5.16.3.1//NONSGML v1.0//EN
CALSCALE:GREGORIAN
METHOD:PUBLISH
X-WR-CALNAME:Ajuntament de Mont-roig del Camp
X-ORIGINAL-URL:https://mont-roig.cat
X-WR-CALDESC:Esdeveniments per Ajuntament de Mont-roig del Camp
BEGIN:VTIMEZONE
TZID:Europe/Madrid
BEGIN:DAYLIGHT
TZOFFSETFROM:+0100
TZOFFSETTO:+0200
TZNAME:CEST
DTSTART:20210328T010000
END:DAYLIGHT
BEGIN:STANDARD
TZOFFSETFROM:+0200
TZOFFSETTO:+0100
TZNAME:CET
DTSTART:20211031T010000
END:STANDARD
END:VTIMEZONE
BEGIN:VEVENT
DTSTART;TZID=Europe/Madrid:20210711T193000
DTEND;TZID=Europe/Madrid:20210711T210000
DTSTAMP:20260420T073903
CREATED:20210701T122444Z
LAST-MODIFIED:20210701T122457Z
UID:56437-1626031800-1626037200@mont-roig.cat
SUMMARY:'La volta al món en uns quants contes'\, al Petit Sons  de Nit
DESCRIPTION:L’horari dels Petits Sons de nit a les 19.30h. \nPer assistir com a públic als espectacles caldrà reservar anticipadament les entrades\, que seran gratuïtes\, a través del correu electrònic del Departament de Cultura a cultura@mont-roig.cat (indicant noms i cognoms i telèfon de totes les persones) o bé presencialment a la Casa de Cultura de Mont-roig i al Polivalent de Miami Platja\, de dilluns a divendres\, de 9.00h a 13.00h.
URL:https://mont-roig.cat/acte/la-volta-al-mon-en-uns-quants-contes-al-petit-sons-de-nit/
LOCATION:Ermita Mare de Déu de la Roca
CATEGORIES:Ajuntament,Cultura
ATTACH;FMTTYPE=image/png:https://mont-roig.cat/wp-content/uploads/05_MM_sonsdenit_IGF.png
END:VEVENT
END:VCALENDAR