BEGIN:VCALENDAR
VERSION:2.0
PRODID:-//Ajuntament de Mont-roig del Camp - ECPv5.16.3.1//NONSGML v1.0//EN
CALSCALE:GREGORIAN
METHOD:PUBLISH
X-WR-CALNAME:Ajuntament de Mont-roig del Camp
X-ORIGINAL-URL:https://mont-roig.cat
X-WR-CALDESC:Esdeveniments per Ajuntament de Mont-roig del Camp
BEGIN:VTIMEZONE
TZID:Europe/Madrid
BEGIN:DAYLIGHT
TZOFFSETFROM:+0100
TZOFFSETTO:+0200
TZNAME:CEST
DTSTART:20230326T010000
END:DAYLIGHT
BEGIN:STANDARD
TZOFFSETFROM:+0200
TZOFFSETTO:+0100
TZNAME:CET
DTSTART:20231029T010000
END:STANDARD
END:VTIMEZONE
BEGIN:VEVENT
DTSTART;VALUE=DATE:20231109
DTEND;VALUE=DATE:20231203
DTSTAMP:20260422T021033
CREATED:20231120T125723Z
LAST-MODIFIED:20231120T125747Z
UID:73604-1699488000-1701561599@mont-roig.cat
SUMMARY:25N\, Dia Internacional per l’Erradicació de la Violència vers les Dones
DESCRIPTION:Descarrega el pdf amb tots els actes del 25N en aquest enllaç.
URL:https://mont-roig.cat/acte/25n-dia-internacional-per-lerradicacio-de-la-violencia-vers-les-dones/
LOCATION:Mont-roig i Miami
CATEGORIES:Ajuntament,Polítiques d'Igualtat i de les Dones
ATTACH;FMTTYPE=image/jpeg:https://mont-roig.cat/wp-content/uploads/MR_25N_2023_Cartell_A3-scaled.jpg
END:VEVENT
BEGIN:VEVENT
DTSTART;TZID=Europe/Madrid:20231109T170000
DTEND;TZID=Europe/Madrid:20231112T210000
DTSTAMP:20260422T021033
CREATED:20230920T095817Z
LAST-MODIFIED:20230920T100000Z
UID:72394-1699549200-1699822800@mont-roig.cat
SUMMARY:Escape Room
DESCRIPTION:
URL:https://mont-roig.cat/acte/escape-room-5/
LOCATION:Parc Lilí
CATEGORIES:Ajuntament,Joventut
ATTACH;FMTTYPE=image/png:https://mont-roig.cat/wp-content/uploads/Cartell-Escape-Room-2023.png
END:VEVENT
BEGIN:VEVENT
DTSTART;TZID=Europe/Madrid:20231111T190000
DTEND;TZID=Europe/Madrid:20231111T203000
DTSTAMP:20260422T021033
CREATED:20230927T213358Z
LAST-MODIFIED:20230927T213900Z
UID:72718-1699729200-1699734600@mont-roig.cat
SUMMARY:Marina Fernández i Marina Paje a l'Accents Som Flamencs a Miami Platja
DESCRIPTION:El cicle Som Flamencs torna a Miami Platja de la mà del Festival Accents amb un concert i ball de flamenc contemporani. Miranda Fernández i Marina Paje s’uneixen per crear una un duo tendre i entremaliat a parts iguals. Un viatge entre la melodia flamenca i el ball contemporani. El seu repertori inclou composicions pròpies de la Miranda. La performance adquireix un to clàssic i esbojarrat per parts iguals. Una explosió rítmica i melòdica!
URL:https://mont-roig.cat/acte/marina-fernandez-i-marina-paje-a-laccents-som-flamencs-a-miami-platja/
LOCATION:Centre Polivalent Sant Jaume\, Carrer de Sòria\, 18\, Miami Platja\, Tarragona\, 43892\, Spain
CATEGORIES:Ajuntament,Cultura
ATTACH;FMTTYPE=image/jpeg:https://mont-roig.cat/wp-content/uploads/Miranda_Marina_ACCENTS.jpg
END:VEVENT
END:VCALENDAR