BEGIN:VCALENDAR
VERSION:2.0
PRODID:-//Ajuntament de Mont-roig del Camp - ECPv5.16.3.1//NONSGML v1.0//EN
CALSCALE:GREGORIAN
METHOD:PUBLISH
X-WR-CALNAME:Ajuntament de Mont-roig del Camp
X-ORIGINAL-URL:https://mont-roig.cat
X-WR-CALDESC:Esdeveniments per Ajuntament de Mont-roig del Camp
BEGIN:VTIMEZONE
TZID:Europe/Madrid
BEGIN:DAYLIGHT
TZOFFSETFROM:+0100
TZOFFSETTO:+0200
TZNAME:CEST
DTSTART:20230326T010000
END:DAYLIGHT
BEGIN:STANDARD
TZOFFSETFROM:+0200
TZOFFSETTO:+0100
TZNAME:CET
DTSTART:20231029T010000
END:STANDARD
END:VTIMEZONE
BEGIN:VEVENT
DTSTART;VALUE=DATE:20231109
DTEND;VALUE=DATE:20231203
DTSTAMP:20260420T210127
CREATED:20231120T125723Z
LAST-MODIFIED:20231120T125747Z
UID:73604-1699488000-1701561599@mont-roig.cat
SUMMARY:25N\, Dia Internacional per l’Erradicació de la Violència vers les Dones
DESCRIPTION:Descarrega el pdf amb tots els actes del 25N en aquest enllaç.
URL:https://mont-roig.cat/acte/25n-dia-internacional-per-lerradicacio-de-la-violencia-vers-les-dones/
LOCATION:Mont-roig i Miami
CATEGORIES:Ajuntament,Polítiques d'Igualtat i de les Dones
ATTACH;FMTTYPE=image/jpeg:https://mont-roig.cat/wp-content/uploads/MR_25N_2023_Cartell_A3-scaled.jpg
END:VEVENT
BEGIN:VEVENT
DTSTART;TZID=Europe/Madrid:20231123T170000
DTEND;TZID=Europe/Madrid:20231123T183000
DTSTAMP:20260420T210127
CREATED:20231108T120419Z
LAST-MODIFIED:20231108T120419Z
UID:73490-1700758800-1700764200@mont-roig.cat
SUMMARY:Expoanime. Quedada frikis
DESCRIPTION:
URL:https://mont-roig.cat/acte/expoanime-quedada-frikis/
LOCATION:Biblioteca Miramar\, Carrer Soria\, 16\, Miami Platja\, Tarragona\, 43892\, Spain
CATEGORIES:Ajuntament,Biblioteca
ATTACH;FMTTYPE=image/jpeg:https://mont-roig.cat/wp-content/uploads/Sin-titulo-29.7-×-46-cm2.jpg
GEO:41.0027012;0.9276747
X-APPLE-STRUCTURED-LOCATION;VALUE=URI;X-ADDRESS=Biblioteca Miramar Carrer Soria 16 Miami Platja Tarragona 43892 Spain;X-APPLE-RADIUS=500;X-TITLE=Carrer Soria\, 16:geo:0.9276747,41.0027012
END:VEVENT
BEGIN:VEVENT
DTSTART;TZID=Europe/Madrid:20231123T170000
DTEND;TZID=Europe/Madrid:20231123T190000
DTSTAMP:20260420T210127
CREATED:20231120T131729Z
LAST-MODIFIED:20231120T132048Z
UID:73626-1700758800-1700766000@mont-roig.cat
SUMMARY:Expoanime
DESCRIPTION:
URL:https://mont-roig.cat/acte/expoanime/
LOCATION:Centre Polivalent Sant Jaume\, Carrer de Sòria\, 18\, Miami Platja\, Tarragona\, 43892\, Spain
CATEGORIES:Ajuntament,Biblioteca,Joventut,Polítiques d'Igualtat i de les Dones
ATTACH;FMTTYPE=image/jpeg:https://mont-roig.cat/wp-content/uploads/Sin-titulo-29.7-×-46-cm2-1.jpg
END:VEVENT
BEGIN:VEVENT
DTSTART;TZID=Europe/Madrid:20231123T180000
DTEND;TZID=Europe/Madrid:20231123T180000
DTSTAMP:20260420T210127
CREATED:20231120T130717Z
LAST-MODIFIED:20231120T130835Z
UID:73621-1700762400-1700762400@mont-roig.cat
SUMMARY:Contés i més contes: 'Tots els colors són iguals'
DESCRIPTION:
URL:https://mont-roig.cat/acte/contes-i-mes-contes-tots-els-colors-son-iguals/
LOCATION:Biblioteca Miramar\, Carrer Soria\, 16\, Miami Platja\, Tarragona\, 43892\, Spain
CATEGORIES:Ajuntament,Biblioteca,Polítiques d'Igualtat i de les Dones
ATTACH;FMTTYPE=image/jpeg:https://mont-roig.cat/wp-content/uploads/Conte-25N-Miami2-1.jpg
ORGANIZER;CN="Biblioteca%20Miramar":MAILTO:biblioteca.miami@mont-roig.cat
GEO:41.0027012;0.9276747
X-APPLE-STRUCTURED-LOCATION;VALUE=URI;X-ADDRESS=Biblioteca Miramar Carrer Soria 16 Miami Platja Tarragona 43892 Spain;X-APPLE-RADIUS=500;X-TITLE=Carrer Soria\, 16:geo:0.9276747,41.0027012
END:VEVENT
END:VCALENDAR