BEGIN:VCALENDAR
VERSION:2.0
PRODID:-//Ajuntament de Mont-roig del Camp - ECPv5.16.3.1//NONSGML v1.0//EN
CALSCALE:GREGORIAN
METHOD:PUBLISH
X-WR-CALNAME:Ajuntament de Mont-roig del Camp
X-ORIGINAL-URL:https://mont-roig.cat
X-WR-CALDESC:Esdeveniments per Ajuntament de Mont-roig del Camp
BEGIN:VTIMEZONE
TZID:Europe/Madrid
BEGIN:DAYLIGHT
TZOFFSETFROM:+0100
TZOFFSETTO:+0200
TZNAME:CEST
DTSTART:20240331T010000
END:DAYLIGHT
BEGIN:STANDARD
TZOFFSETFROM:+0200
TZOFFSETTO:+0100
TZNAME:CET
DTSTART:20241027T010000
END:STANDARD
END:VTIMEZONE
BEGIN:VEVENT
DTSTART;TZID=Europe/Madrid:20240425T180000
DTEND;TZID=Europe/Madrid:20240425T190000
DTSTAMP:20260421T225611
CREATED:20240402T161639Z
LAST-MODIFIED:20240402T161639Z
UID:75720-1714068000-1714071600@mont-roig.cat
SUMMARY:Cicle contes i més contes
DESCRIPTION:
URL:https://mont-roig.cat/acte/cicle-contes-i-mes-contes-7/2024-04-25/
CATEGORIES:Ajuntament,Biblioteca
ATTACH;FMTTYPE=image/jpeg:https://mont-roig.cat/wp-content/uploads/contes_miramar-ABRIL-24-1.jpg
END:VEVENT
END:VCALENDAR