BEGIN:VCALENDAR
VERSION:2.0
PRODID:-//Ajuntament de Mont-roig del Camp - ECPv5.16.3.1//NONSGML v1.0//EN
CALSCALE:GREGORIAN
METHOD:PUBLISH
X-WR-CALNAME:Ajuntament de Mont-roig del Camp
X-ORIGINAL-URL:https://mont-roig.cat
X-WR-CALDESC:Esdeveniments per Ajuntament de Mont-roig del Camp
BEGIN:VTIMEZONE
TZID:Europe/Madrid
BEGIN:DAYLIGHT
TZOFFSETFROM:+0100
TZOFFSETTO:+0200
TZNAME:CEST
DTSTART:20260329T010000
END:DAYLIGHT
BEGIN:STANDARD
TZOFFSETFROM:+0200
TZOFFSETTO:+0100
TZNAME:CET
DTSTART:20261025T010000
END:STANDARD
END:VTIMEZONE
BEGIN:VEVENT
DTSTART;TZID=Europe/Madrid:20260403T180000
DTEND;TZID=Europe/Madrid:20260405T210000
DTSTAMP:20260421T184359
CREATED:20260126T112123Z
LAST-MODIFIED:20260330T063639Z
UID:88305-1775239200-1775422800@mont-roig.cat
SUMMARY:Fira del Vi
DESCRIPTION:Miami Platja \n\nWinelover! Torna la Fira del Vi de Miami Platja! Una molt bona ocasió per tornar a brindar amb la parella\, amics o família i celebrar petits grans moments entre vins i somriures…\nEnguany podràs gaudir dels millors vins de 19 cellers de 8 Denominacions d’Origen del territori amb actuacions musicals\, activitats infantils\, un espai de gastronomia local\, una zona Chill Out\, sortejos a Instagram… i moltes sorpreses més! \n\nDescarrega el programa AQUÍ
URL:https://mont-roig.cat/acte/fira-del-vi/
LOCATION:Plaça del Cinquantenari\, Plaça del Cinquantenari\, Miami Platja\, Tarragona\, 43892\, Spain
CATEGORIES:Ajuntament,Turisme
ATTACH;FMTTYPE=image/png:https://mont-roig.cat/wp-content/uploads/MMT_FIRA_VI26_1200x630-scaled.png
END:VEVENT
END:VCALENDAR