BEGIN:VCALENDAR
VERSION:2.0
PRODID:-//Ajuntament de Mont-roig del Camp - ECPv5.16.3.1//NONSGML v1.0//EN
CALSCALE:GREGORIAN
METHOD:PUBLISH
X-WR-CALNAME:Ajuntament de Mont-roig del Camp
X-ORIGINAL-URL:https://mont-roig.cat
X-WR-CALDESC:Esdeveniments per Ajuntament de Mont-roig del Camp
BEGIN:VTIMEZONE
TZID:Europe/Madrid
BEGIN:DAYLIGHT
TZOFFSETFROM:+0100
TZOFFSETTO:+0200
TZNAME:CEST
DTSTART:20260329T010000
END:DAYLIGHT
BEGIN:STANDARD
TZOFFSETFROM:+0200
TZOFFSETTO:+0100
TZNAME:CET
DTSTART:20261025T010000
END:STANDARD
END:VTIMEZONE
BEGIN:VEVENT
DTSTART;TZID=Europe/Madrid:20260415T173000
DTEND;TZID=Europe/Madrid:20260415T173000
DTSTAMP:20260422T032043
CREATED:20260330T105458Z
LAST-MODIFIED:20260408T114438Z
UID:90511-1776274200-1776274200@mont-roig.cat
SUMMARY:La rebel·lió dels contes
DESCRIPTION:Mont-roig del Camp \n\n\n17.30 h Biblioteca Joan Miró\nConte + Taller infantil\nAbans es farà entrega dels premis del concurs de punts de llibre de la biblioteca Joan Miró
URL:https://mont-roig.cat/acte/la-rebellio-dels-contes/
LOCATION:Biblioteca Joan Miró\, Carrer Mare de Déu de la Roca\, 5\, Mont-roig del Camp\, Tarragona\, 43300\, Spain
CATEGORIES:Ajuntament,Biblioteca,Cultura
ATTACH;FMTTYPE=image/png:https://mont-roig.cat/wp-content/uploads/Sant-Jordi.png
GEO:41.08714;0.958
X-APPLE-STRUCTURED-LOCATION;VALUE=URI;X-ADDRESS=Biblioteca Joan Miró Carrer Mare de Déu de la Roca 5 Mont-roig del Camp Tarragona 43300 Spain;X-APPLE-RADIUS=500;X-TITLE=Carrer Mare de Déu de la Roca\, 5:geo:0.958,41.08714
END:VEVENT
BEGIN:VEVENT
DTSTART;TZID=Europe/Madrid:20260415T174500
DTEND;TZID=Europe/Madrid:20260415T174500
DTSTAMP:20260422T032043
CREATED:20260303T123825Z
LAST-MODIFIED:20260304T083945Z
UID:89774-1776275100-1776275100@mont-roig.cat
SUMMARY:Cicle de xerrades d'Acció Comunitària: Ni un clic més. Stop a les estafes
DESCRIPTION:Mont-roig del Camp \n\nDintre del programa d’activitats de la Gent Gran\, s’ofereix aquesta activitat a càrrec de David Marqués\, Caporal de la Policia Local. \n\nDescarrega’t el programa de la Gent Gran primavera/estiu 2026 AQUÍ
URL:https://mont-roig.cat/acte/ni-un-clic-mes-stop-a-les-estafes-2/
LOCATION:Casal de la Gent Gran Mont-roig\, C. Aureli M. Escarré\, s/n\, Mont-roig del Camp\, Tarragona\, 43300\, Spain
CATEGORIES:Ajuntament,Gent Gran
ATTACH;FMTTYPE=image/jpeg:https://mont-roig.cat/wp-content/uploads/MM_SALUT_PRIMAVERA26_GENT_GRAN_page-0002-scaled.jpg
ORGANIZER;CN="Gent%20Gran":MAILTO:gent.gran@mont-roig.cat
END:VEVENT
BEGIN:VEVENT
DTSTART;TZID=Europe/Madrid:20260415T190000
DTEND;TZID=Europe/Madrid:20260415T200000
DTSTAMP:20260422T032043
CREATED:20260109T113345Z
LAST-MODIFIED:20260211T083705Z
UID:87930-1776279600-1776283200@mont-roig.cat
SUMMARY:Coaching benestar emocional familiar
DESCRIPTION:Miami Platja \nVols millorar la comunicació amb joves o adolescents? A través d’aquests tallers aprendràs a gestionar el dia a dia des de la intel·ligència emocional i el respecte. \nQuè hi trobaràs? Eines reals per posar límits sense crits\, gestionar conflictes amb calma i reforçar el vincle familiar. Una formació vivencial per a famílies i professionals que busquen solucions pràctiques. \n𝐒𝐄𝐒𝐒𝐈𝐎́ 2: Com resoldre situacions tenses i conflictes. Estratègies per desescalar discussions i transformar el conflicte en aprenentatge. \n\nMiami Platja: Dimecres\, 15 d’abril | 19h (Polivalent)\n“Posar límits és afavorir vincles més sans.”\nAdreçat a: Famílies i professionals.\nMés informació: joventut@mont-roig.cat
URL:https://mont-roig.cat/acte/coaching-benestar-emocional-familiar-2/
LOCATION:Centre Polivalent Sant Jaume\, Carrer de Sòria\, 18\, Miami Platja\, Tarragona\, 43892\, Spain
CATEGORIES:Ajuntament,Joventut
ATTACH;FMTTYPE=image/jpeg:https://mont-roig.cat/wp-content/uploads/Tallers-Coaching-02.jpg
END:VEVENT
END:VCALENDAR