BEGIN:VCALENDAR
VERSION:2.0
PRODID:-//Ajuntament de Mont-roig del Camp - ECPv5.16.3.1//NONSGML v1.0//EN
CALSCALE:GREGORIAN
METHOD:PUBLISH
X-WR-CALNAME:Ajuntament de Mont-roig del Camp
X-ORIGINAL-URL:https://mont-roig.cat
X-WR-CALDESC:Esdeveniments per Ajuntament de Mont-roig del Camp
BEGIN:VTIMEZONE
TZID:Europe/Madrid
BEGIN:DAYLIGHT
TZOFFSETFROM:+0100
TZOFFSETTO:+0200
TZNAME:CEST
DTSTART:20260329T010000
END:DAYLIGHT
BEGIN:STANDARD
TZOFFSETFROM:+0200
TZOFFSETTO:+0100
TZNAME:CET
DTSTART:20261025T010000
END:STANDARD
END:VTIMEZONE
BEGIN:VEVENT
DTSTART;TZID=Europe/Madrid:20260419T091500
DTEND;TZID=Europe/Madrid:20260419T091500
DTSTAMP:20260421T081837
CREATED:20260121T093016Z
LAST-MODIFIED:20260304T090410Z
UID:88221-1776590100-1776590100@mont-roig.cat
SUMMARY:Mitja Marató Miami Platja
DESCRIPTION:Miami Platja \n\nArriba el bon temps i en aquestes dades no podia faltar la Mitja Marató de Miami Platja. \nUs animem a participar en qualsevol de les modalitats que us oferim\, la Mitja Marató\, la cursa de 10K\, la cursa de 5K i les curses infantils pels més petits de casa. \nEl preu d’inscripció que va des dels 12 als 8 euros\, segons la distància que trieu. (gastos de gestió no inclosos). \nInscripcions:  AQUÍ
URL:https://mont-roig.cat/acte/mitja-marato-miami-platja/
LOCATION:Poliesportiu de Miami Platja\, Badajoz\, 4\, Miami Platja
CATEGORIES:Ajuntament,Esports
ATTACH;FMTTYPE=image/png:https://mont-roig.cat/wp-content/uploads/MME_mitja_marato2026_web-scaled.png
GEO:41.00588;0.92511
X-APPLE-STRUCTURED-LOCATION;VALUE=URI;X-ADDRESS=Poliesportiu de Miami Platja Badajoz 4 Miami Platja;X-APPLE-RADIUS=500;X-TITLE=Badajoz\, 4:geo:0.92511,41.00588
END:VEVENT
END:VCALENDAR