BEGIN:VCALENDAR
VERSION:2.0
PRODID:-//Ajuntament de Mont-roig del Camp - ECPv5.16.3.1//NONSGML v1.0//EN
CALSCALE:GREGORIAN
METHOD:PUBLISH
X-WR-CALNAME:Ajuntament de Mont-roig del Camp
X-ORIGINAL-URL:https://mont-roig.cat
X-WR-CALDESC:Esdeveniments per Ajuntament de Mont-roig del Camp
BEGIN:VTIMEZONE
TZID:Europe/Madrid
BEGIN:DAYLIGHT
TZOFFSETFROM:+0100
TZOFFSETTO:+0200
TZNAME:CEST
DTSTART:20260329T010000
END:DAYLIGHT
BEGIN:STANDARD
TZOFFSETFROM:+0200
TZOFFSETTO:+0100
TZNAME:CET
DTSTART:20261025T010000
END:STANDARD
END:VTIMEZONE
BEGIN:VEVENT
DTSTART;TZID=Europe/Madrid:20260421T090000
DTEND;TZID=Europe/Madrid:20260421T090000
DTSTAMP:20260421T201548
CREATED:20260421T100906Z
LAST-MODIFIED:20260421T101623Z
UID:91190-1776762000-1776762000@mont-roig.cat
SUMMARY:Com buscar ocupació en el món digital
DESCRIPTION:Miami Platja \n\nContrueix el teu futur \n\nEDICIÓ 1\n21\, 23 i 24 d’abril\nDe 9 a 13 h
URL:https://mont-roig.cat/acte/com-buscar-ocupacio-en-el-mon-digital/
LOCATION:Ecoespai\, Plaça Girona\, Miami Platja\, Tarragona\, 43892\, Spain
CATEGORIES:Ajuntament,Impuls Econòmic i Ocupació
ATTACH;FMTTYPE=image/png:https://mont-roig.cat/wp-content/uploads/MM_COMERC_formacions_Primavera26_stories_2_MM_COMERC_formacions_Primavera26_stories-copia-3-scaled.png
END:VEVENT
END:VCALENDAR