BEGIN:VCALENDAR
VERSION:2.0
PRODID:-//Ajuntament de Mont-roig del Camp - ECPv5.16.3.1//NONSGML v1.0//EN
CALSCALE:GREGORIAN
METHOD:PUBLISH
X-WR-CALNAME:Ajuntament de Mont-roig del Camp
X-ORIGINAL-URL:https://mont-roig.cat
X-WR-CALDESC:Esdeveniments per Ajuntament de Mont-roig del Camp
BEGIN:VTIMEZONE
TZID:Europe/Madrid
BEGIN:DAYLIGHT
TZOFFSETFROM:+0100
TZOFFSETTO:+0200
TZNAME:CEST
DTSTART:20260329T010000
END:DAYLIGHT
BEGIN:STANDARD
TZOFFSETFROM:+0200
TZOFFSETTO:+0100
TZNAME:CET
DTSTART:20261025T010000
END:STANDARD
END:VTIMEZONE
BEGIN:VEVENT
DTSTART;VALUE=DATE:20260423
DTEND;VALUE=DATE:20260424
DTSTAMP:20260421T213845
CREATED:20260311T092913Z
LAST-MODIFIED:20260413T081549Z
UID:90040-1776902400-1776988799@mont-roig.cat
SUMMARY:Sant Jordi Mont-roig del Camp
DESCRIPTION:Mont-roig del Camp \n\n\nPLAÇA MIRAMAR \n\n10.00h a 12.00h Quarta marató de lectura a la Plaça amb l’alumnat de l’Escola Mare de Déu de la Roca i l’Institut Antoni Ballester. Organitza: Escola Mare de Déu de la Roca i Institut Antoni Ballester.\n\n\n\n\n\n\nD’11 a 13 h Tallers oberts de Mont-Art\n\n\n\n  \n\nPARC MARIA MARTORI\n\n16.30 h Parades de llibres\, artesania i de les entitats.\n\n\n\n\n\n\nDe 17 a 20 h Tallers oberts a càrrec de Mont-Art.\n\n\n\n\n\n\n17.00 h Espectacle d’animació. A continuació\, coca amb xocolata per a la mainada.\n\n\n\n\n\n\n18.00 h Ballada de gegants a càrrec de la Colla Gegantera del Barri de Dalt Pitota i Pitot\, la Colla Gegantera del Barri dels Sis Carrers i els Grallers de Mont-roig\n\n\n\n\n\n\n19.00 h Concert i ballada de sardanes amb la Cobla Principal de Tarragona i la Rotllana Mont-rogenca
URL:https://mont-roig.cat/acte/sant-jordi-2/
LOCATION:Parc Maria Martori\, Parc Maria Martori\, Mont-roig del Camp\, Tarragona\, 43300
CATEGORIES:Ajuntament,Cultura
ATTACH;FMTTYPE=image/png:https://mont-roig.cat/wp-content/uploads/Sant-Jordi.png
GEO:41.0883839;0.9624933
X-APPLE-STRUCTURED-LOCATION;VALUE=URI;X-ADDRESS=Parc Maria Martori Parc Maria Martori Mont-roig del Camp Tarragona 43300;X-APPLE-RADIUS=500;X-TITLE=Parc Maria Martori:geo:0.9624933,41.0883839
END:VEVENT
BEGIN:VEVENT
DTSTART;TZID=Europe/Madrid:20260423T163000
DTEND;TZID=Europe/Madrid:20260423T200000
DTSTAMP:20260421T213845
CREATED:20260330T101710Z
LAST-MODIFIED:20260413T073743Z
UID:90493-1776961800-1776974400@mont-roig.cat
SUMMARY:Sant Jordi Miami Platja
DESCRIPTION:Miami Platja \n\n\nPLAÇA JAÉN\n\n16.30h Obertura de les parades de roses\, artesania i de les entitats.\n\n\n\n\n\n\n17.00 h Espectacle d’animació amb Rovell d’Ou.\n\n\n\n\n\n\nA continuació\, coca amb xocolata per a la mainada.\n\n\n\n\n\n\n18.00 h Ballada de la Geganta de la Lluna Roja acompanyada de la xaranga Pat-xaranga Cafè\, copa i puro.\n\n\n\n\n\n\n19.00 h Concert i ballada de sardanes la Cobla Sitgetana i amb l’Associació Country i Line Dance Mont-roig i Miami.
URL:https://mont-roig.cat/acte/sant-jordi-miami-platja/
LOCATION:Plaça Jaén\, Plaça Jaén\, Miami Platja\, Tarragona\, 43892\, Spain
CATEGORIES:Ajuntament,Cultura
ATTACH;FMTTYPE=image/png:https://mont-roig.cat/wp-content/uploads/Sant-Jordi.png
END:VEVENT
END:VCALENDAR