BEGIN:VCALENDAR
VERSION:2.0
PRODID:-//Ajuntament de Mont-roig del Camp - ECPv5.16.3.1//NONSGML v1.0//EN
CALSCALE:GREGORIAN
METHOD:PUBLISH
X-WR-CALNAME:Ajuntament de Mont-roig del Camp
X-ORIGINAL-URL:https://mont-roig.cat
X-WR-CALDESC:Esdeveniments per Ajuntament de Mont-roig del Camp
BEGIN:VTIMEZONE
TZID:Europe/Madrid
BEGIN:DAYLIGHT
TZOFFSETFROM:+0100
TZOFFSETTO:+0200
TZNAME:CEST
DTSTART:20260329T010000
END:DAYLIGHT
BEGIN:STANDARD
TZOFFSETFROM:+0200
TZOFFSETTO:+0100
TZNAME:CET
DTSTART:20261025T010000
END:STANDARD
END:VTIMEZONE
BEGIN:VEVENT
DTSTART;TZID=Europe/Madrid:20260425T114500
DTEND;TZID=Europe/Madrid:20260425T114500
DTSTAMP:20260422T041336
CREATED:20260410T070700Z
LAST-MODIFIED:20260413T081250Z
UID:90722-1777117500-1777117500@mont-roig.cat
SUMMARY:2n Corresardanes
DESCRIPTION:Mont-roig del Camp \n\n\n11.45 h Plaça Miramar\n12.30 h gran ballada al Parc Maria Martori.
URL:https://mont-roig.cat/acte/2n-corresardanes/
LOCATION:Plaça Miramar
CATEGORIES:Ajuntament,Cultura
ATTACH;FMTTYPE=image/png:https://mont-roig.cat/wp-content/uploads/Sant-Jordi.png
END:VEVENT
BEGIN:VEVENT
DTSTART;TZID=Europe/Madrid:20260425T180000
DTEND;TZID=Europe/Madrid:20260425T180000
DTSTAMP:20260422T041336
CREATED:20260330T104940Z
LAST-MODIFIED:20260413T075545Z
UID:90508-1777140000-1777140000@mont-roig.cat
SUMMARY:Concert de Sant Jordi
DESCRIPTION:Mont-roig del Camp \n\n\n18.00 h Concert especial Sant Jordi a càrrec de la Coral Sant Miquel
URL:https://mont-roig.cat/acte/concert-de-sant-jordi/
LOCATION:Centre Cultural Església Vella\, Carrer Major\, 2\, Mont-roig del Camp\, Tarragona\, 43300\, Spain
CATEGORIES:Ajuntament,Cultura
ATTACH;FMTTYPE=image/png:https://mont-roig.cat/wp-content/uploads/Sant-Jordi.png
GEO:41.0877788;0.958854
X-APPLE-STRUCTURED-LOCATION;VALUE=URI;X-ADDRESS=Centre Cultural Església Vella Carrer Major 2 Mont-roig del Camp Tarragona 43300 Spain;X-APPLE-RADIUS=500;X-TITLE=Carrer Major\, 2:geo:0.958854,41.0877788
END:VEVENT
BEGIN:VEVENT
DTSTART;TZID=Europe/Madrid:20260425T183000
DTEND;TZID=Europe/Madrid:20260425T183000
DTSTAMP:20260422T041336
CREATED:20260226T114420Z
LAST-MODIFIED:20260413T075739Z
UID:89309-1777141800-1777141800@mont-roig.cat
SUMMARY:Concert: Ai Ai Ai
DESCRIPTION:Mont-roig del Camp \n\n\n18.30 h Concert del grup Ai Ai Ai\, dins del Superfolk Fest\nParc Maria Martori de Mont-roig del Camp\nObertura de portes 30 minuts abans\nEntrada Gratuïta
URL:https://mont-roig.cat/acte/concert-ai-ai-ai/
LOCATION:Parc Maria Martori\, Parc Maria Martori\, Mont-roig del Camp\, Tarragona\, 43300
CATEGORIES:Ajuntament,Cultura
ATTACH;FMTTYPE=image/png:https://mont-roig.cat/wp-content/uploads/Sant-Jordi.png
GEO:41.0883839;0.9624933
X-APPLE-STRUCTURED-LOCATION;VALUE=URI;X-ADDRESS=Parc Maria Martori Parc Maria Martori Mont-roig del Camp Tarragona 43300;X-APPLE-RADIUS=500;X-TITLE=Parc Maria Martori:geo:0.9624933,41.0883839
END:VEVENT
END:VCALENDAR