BEGIN:VCALENDAR
VERSION:2.0
PRODID:-//Ajuntament de Mont-roig del Camp - ECPv5.16.3.1//NONSGML v1.0//EN
CALSCALE:GREGORIAN
METHOD:PUBLISH
X-WR-CALNAME:Ajuntament de Mont-roig del Camp
X-ORIGINAL-URL:https://mont-roig.cat
X-WR-CALDESC:Esdeveniments per Ajuntament de Mont-roig del Camp
BEGIN:VTIMEZONE
TZID:Europe/Madrid
BEGIN:DAYLIGHT
TZOFFSETFROM:+0100
TZOFFSETTO:+0200
TZNAME:CEST
DTSTART:20260329T010000
END:DAYLIGHT
BEGIN:STANDARD
TZOFFSETFROM:+0200
TZOFFSETTO:+0100
TZNAME:CET
DTSTART:20261025T010000
END:STANDARD
END:VTIMEZONE
BEGIN:VEVENT
DTSTART;VALUE=DATE:20260430
DTEND;VALUE=DATE:20260501
DTSTAMP:20260422T092221
CREATED:20260126T113927Z
LAST-MODIFIED:20260420T114903Z
UID:88308-1777507200-1777593599@mont-roig.cat
SUMMARY:DesTapa't
DESCRIPTION:Mont-roig del Camp i Miami Platja \n\nInici de la V Ruta de la Tapa. Iniciativa gastronòmica que comptarà amb la participació de bars i restaurants locals\, els quals presentaran una tapa original elaborada amb productes de temporada i de proximitat. \nDel 30 d’abril al 17 de maig
URL:https://mont-roig.cat/acte/destapat/
CATEGORIES:Ajuntament,Turisme
ATTACH;FMTTYPE=image/png:https://mont-roig.cat/wp-content/uploads/MMT_destapat_2026_FEED-scaled.png
END:VEVENT
BEGIN:VEVENT
DTSTART;TZID=Europe/Madrid:20260430T080000
DTEND;TZID=Europe/Madrid:20260430T170000
DTSTAMP:20260422T092221
CREATED:20260202T074536Z
LAST-MODIFIED:20260202T074536Z
UID:88449-1777536000-1777568400@mont-roig.cat
SUMMARY:Club de lectura en família
DESCRIPTION:Miami Platja \nSílvia Palazón dirigeix aquesta activitat per a famílies amb infants que cursen I4\, I5 i 1r \nPlaces limitades! \nInscripció prèvia: 977 17 25 62
URL:https://mont-roig.cat/acte/club-de-lectura-en-familia-3/
LOCATION:bilbioteca miramar
CATEGORIES:Ajuntament,Biblioteca
ATTACH;FMTTYPE=image/jpeg:https://mont-roig.cat/wp-content/uploads/Club-de-lectura-en-Familia-Miami.jpg
END:VEVENT
BEGIN:VEVENT
DTSTART;TZID=Europe/Madrid:20260430T090000
DTEND;TZID=Europe/Madrid:20260430T133000
DTSTAMP:20260422T092221
CREATED:20260409T104557Z
LAST-MODIFIED:20260409T104557Z
UID:90693-1777539600-1777555800@mont-roig.cat
SUMMARY:Formació empresarial: Com trobar el talent que necessites
DESCRIPTION:Miami Platja \n\nL’objectiu d’aquesta sessió és dotar les petites i mitjanes empreses del municipi de: \n\nRecursos pràctics per millorar els processos de selecció de personal mitjançant l’ús d’eines i recursos locals.\nLa millora de la visibilitat digital i la redacció d’ofertes atractives.\nL’agilització del procés de selecció (“Selecció Smart”).\nEstratègies per a la convivència intergeneracional.\nAccions per enfortir la marca ocupadora i fidelitzar el talent.\nDijous 30 d’abril de 9 a 10.30 h
URL:https://mont-roig.cat/acte/formacio-empresarial-com-trobar-el-talent-que-necessites/
LOCATION:Ecoespai\, Plaça Girona\, Miami Platja\, Tarragona\, 43892\, Spain
CATEGORIES:Ajuntament,Impuls Econòmic i Ocupació
ATTACH;FMTTYPE=image/png:https://mont-roig.cat/wp-content/uploads/MM_COMERC_formacions_empresaris_A3.png
END:VEVENT
END:VCALENDAR