BEGIN:VCALENDAR
VERSION:2.0
PRODID:-//Ajuntament de Mont-roig del Camp - ECPv5.16.3.1//NONSGML v1.0//EN
CALSCALE:GREGORIAN
METHOD:PUBLISH
X-WR-CALNAME:Ajuntament de Mont-roig del Camp
X-ORIGINAL-URL:https://mont-roig.cat
X-WR-CALDESC:Esdeveniments per Ajuntament de Mont-roig del Camp
BEGIN:VTIMEZONE
TZID:Europe/Madrid
BEGIN:DAYLIGHT
TZOFFSETFROM:+0100
TZOFFSETTO:+0200
TZNAME:CEST
DTSTART:20260329T010000
END:DAYLIGHT
BEGIN:STANDARD
TZOFFSETFROM:+0200
TZOFFSETTO:+0100
TZNAME:CET
DTSTART:20261025T010000
END:STANDARD
END:VTIMEZONE
BEGIN:VEVENT
DTSTART;VALUE=DATE:20260508
DTEND;VALUE=DATE:20260509
DTSTAMP:20260423T082745
CREATED:20260211T092026Z
LAST-MODIFIED:20260409T100656Z
UID:88870-1778198400-1778284799@mont-roig.cat
SUMMARY:Festa de la Gent Gran
DESCRIPTION:Mont-roig del Camp i Miami Platja \n\nPer a persones a partir de 70 anys empadronades al municipi \nIncripcions: \n\n661 483 728\ngent.gran@mont-roig.cat\nFins al 24 d’abril
URL:https://mont-roig.cat/acte/festa-de-la-gent-gran-2/
LOCATION:Poliesportiu de Mont-roig del Camp\, Carrer Aureli Maria Escarré\, 3\, Mont-roig del Camp\, Tarragona\, 43300\, Spain
CATEGORIES:Ajuntament,Gent Gran
ATTACH;FMTTYPE=image/png:https://mont-roig.cat/wp-content/uploads/MM_festa_avis26_cartell_web-scaled.png
ORGANIZER;CN="Gent%20Gran":MAILTO:gent.gran@mont-roig.cat
GEO:41.0865513;0.9606138
X-APPLE-STRUCTURED-LOCATION;VALUE=URI;X-ADDRESS=Poliesportiu de Mont-roig del Camp Carrer Aureli Maria Escarré 3 Mont-roig del Camp Tarragona 43300 Spain;X-APPLE-RADIUS=500;X-TITLE=Carrer Aureli Maria Escarré\, 3:geo:0.9606138,41.0865513
END:VEVENT
BEGIN:VEVENT
DTSTART;TZID=Europe/Madrid:20260508T163000
DTEND;TZID=Europe/Madrid:20260508T163000
DTSTAMP:20260423T082745
CREATED:20260401T065228Z
LAST-MODIFIED:20260420T113220Z
UID:90534-1778257800-1778257800@mont-roig.cat
SUMMARY:Gala Drag
DESCRIPTION:Mont-roig del Camp \n\nMont-roig es prepara per viure una nova edició de la Gala Drag\, una vetllada plena de llum\, talent i llibertat d’expressió. \nUna celebració de l’art drag com a forma de cultura\, identitat i reivindicació del col·lectiu LGTBI. \nDes de les 19 h\, podràs gaudir d’un ambient vibrant amb una proposta artística que donarà el tret de sortida a la nit. \nA les 20 h començarà la gala\, on diverses artistes drag pujaran a l’escenari per fer-nos vibrar amb actuacions úniques\, plenes de carisma\, creativitat i actitud. \nLes millors actuacions tindran l’oportunitat de continuar el seu recorregut cap a la gran final de Reus! \nEntrada gratuïta (aforament limitat)
URL:https://mont-roig.cat/acte/gala-drag/
LOCATION:Centre Cultural Església Vella\, Carrer Major\, 2\, Mont-roig del Camp\, Tarragona\, 43300\, Spain
CATEGORIES:Ajuntament,Joventut
ATTACH;FMTTYPE=image/png:https://mont-roig.cat/wp-content/uploads/BANNER-GALA-DRAG-1.png
GEO:41.0877788;0.958854
X-APPLE-STRUCTURED-LOCATION;VALUE=URI;X-ADDRESS=Centre Cultural Església Vella Carrer Major 2 Mont-roig del Camp Tarragona 43300 Spain;X-APPLE-RADIUS=500;X-TITLE=Carrer Major\, 2:geo:0.958854,41.0877788
END:VEVENT
END:VCALENDAR