BEGIN:VCALENDAR
VERSION:2.0
PRODID:-//Ajuntament de Mont-roig del Camp - ECPv5.16.3.1//NONSGML v1.0//EN
CALSCALE:GREGORIAN
METHOD:PUBLISH
X-WR-CALNAME:Ajuntament de Mont-roig del Camp
X-ORIGINAL-URL:https://mont-roig.cat
X-WR-CALDESC:Esdeveniments per Ajuntament de Mont-roig del Camp
BEGIN:VTIMEZONE
TZID:Europe/Madrid
BEGIN:DAYLIGHT
TZOFFSETFROM:+0100
TZOFFSETTO:+0200
TZNAME:CEST
DTSTART:20260329T010000
END:DAYLIGHT
BEGIN:STANDARD
TZOFFSETFROM:+0200
TZOFFSETTO:+0100
TZNAME:CET
DTSTART:20261025T010000
END:STANDARD
END:VTIMEZONE
BEGIN:VEVENT
DTSTART;VALUE=DATE:20260516
DTEND;VALUE=DATE:20260517
DTSTAMP:20260423T064111
CREATED:20260202T090151Z
LAST-MODIFIED:20260409T073030Z
UID:88504-1778889600-1778975999@mont-roig.cat
SUMMARY:TOK'L2: Saló del còmic
DESCRIPTION:Mont-roig del Camp i Miami Platja \n\nSortida cultural per gaudir del món del còmic\, el manga\, el cinema i la cultura pop. \nUn dia per decobrir exposicions\, activitats i novetats\, i compartir l’afició en grup. \n\nLloc: Barcelona\nPreu: 11 € – Inclou transport\, entrada i assegurança\nInscripcions fins al 22 d’abril: joventut@mont-roig.cat\nMés de 12 anys
URL:https://mont-roig.cat/acte/tokl2-salo-del-comic/
LOCATION:Espai Jove K1\, Carrer Aureli M. Escarré\, 28\, Mont-roig del Camp\, Tarragona\, 43300\, Spain
CATEGORIES:Ajuntament,Joventut
ATTACH;FMTTYPE=image/jpeg:https://mont-roig.cat/wp-content/uploads/WhatsApp-Image-2026-04-08-at-15.05.54.jpeg
END:VEVENT
BEGIN:VEVENT
DTSTART;VALUE=DATE:20260516
DTEND;VALUE=DATE:20260518
DTSTAMP:20260423T064111
CREATED:20260323T131148Z
LAST-MODIFIED:20260323T131148Z
UID:90329-1778889600-1779062399@mont-roig.cat
SUMMARY:Pubilla i Hereu de Mont-roig del Camp
DESCRIPTION:Mont-roig del Camp \n\n\nDissabte 16 de maig – Proclamació de la Pubilla i Hereu de Mont-roig del Camp\nDiumenge 17 de maig – Recepció Institucional del Pubillatge\nPròximament més informació
URL:https://mont-roig.cat/acte/pubilla-i-hereu-de-mont-roig-del-camp/
LOCATION:Poliesportiu de Mont-roig del Camp\, Carrer Aureli Maria Escarré\, 3\, Mont-roig del Camp\, Tarragona\, 43300\, Spain
CATEGORIES:Ajuntament,Cultura
ATTACH;FMTTYPE=image/png:https://mont-roig.cat/wp-content/uploads/BANNER-PUBILLA.png
GEO:41.0865513;0.9606138
X-APPLE-STRUCTURED-LOCATION;VALUE=URI;X-ADDRESS=Poliesportiu de Mont-roig del Camp Carrer Aureli Maria Escarré 3 Mont-roig del Camp Tarragona 43300 Spain;X-APPLE-RADIUS=500;X-TITLE=Carrer Aureli Maria Escarré\, 3:geo:0.9606138,41.0865513
END:VEVENT
END:VCALENDAR