BEGIN:VCALENDAR
VERSION:2.0
PRODID:-//Ajuntament de Mont-roig del Camp - ECPv5.16.3.1//NONSGML v1.0//EN
CALSCALE:GREGORIAN
METHOD:PUBLISH
X-WR-CALNAME:Ajuntament de Mont-roig del Camp
X-ORIGINAL-URL:https://mont-roig.cat
X-WR-CALDESC:Esdeveniments per Ajuntament de Mont-roig del Camp
BEGIN:VTIMEZONE
TZID:Europe/Madrid
BEGIN:DAYLIGHT
TZOFFSETFROM:+0100
TZOFFSETTO:+0200
TZNAME:CEST
DTSTART:20190331T010000
END:DAYLIGHT
BEGIN:STANDARD
TZOFFSETFROM:+0200
TZOFFSETTO:+0100
TZNAME:CET
DTSTART:20191027T010000
END:STANDARD
END:VTIMEZONE
BEGIN:VEVENT
DTSTART;VALUE=DATE:20190915
DTEND;VALUE=DATE:20191007
DTSTAMP:20260423T024025
CREATED:20190830T073347Z
LAST-MODIFIED:20190830T073347Z
UID:38713-1568505600-1570406399@mont-roig.cat
SUMMARY:Exposició Amparo Poch y Gascón
DESCRIPTION:Exposició Amparo Poch y Gascón. Commemoració del cinquantenari de la mort d’Amparo Poch y Gascón. \n*Exposició concedida pel Servei de Biblioteques Públiques de Catalunya
URL:https://mont-roig.cat/acte/exposicio-amparo-poch-y-gascon/
LOCATION:Biblioteca Miramar\, Carrer Soria\, 16\, Miami Platja\, Tarragona\, 43892\, Spain
CATEGORIES:Ajuntament,Biblioteca
ATTACH;FMTTYPE=image/jpeg:https://mont-roig.cat/wp-content/uploads/Exposició-Dra-Poch.jpg
GEO:41.0027012;0.9276747
X-APPLE-STRUCTURED-LOCATION;VALUE=URI;X-ADDRESS=Biblioteca Miramar Carrer Soria 16 Miami Platja Tarragona 43892 Spain;X-APPLE-RADIUS=500;X-TITLE=Carrer Soria\, 16:geo:0.9276747,41.0027012
END:VEVENT
BEGIN:VEVENT
DTSTART;VALUE=DATE:20190921
DTEND;VALUE=DATE:20190930
DTSTAMP:20260423T024025
CREATED:20190830T080645Z
LAST-MODIFIED:20190916T152658Z
UID:38734-1569024000-1569801599@mont-roig.cat
SUMMARY:Festa Major de Sant Miquel de Mont-roig
DESCRIPTION:Teatre de carrer\, Mercat a l’antiga\, Mostra d’Entitats\, Cursa de la Dona\, batucades\, musclada popular\, inflables\, seguici festiu nocturn\, concurs de guarniment de balcons i façanes i molt més! \n  \nDescarrega’t el programa sencer en aquest enllaç: \nPrograma Festa Major Sant Miquel Mont-roig 2019
URL:https://mont-roig.cat/acte/festa-major-de-sant-miquel-de-mont-roig-2/
LOCATION:Mont-roig
CATEGORIES:Ajuntament
ATTACH;FMTTYPE=image/png:https://mont-roig.cat/wp-content/uploads/Cartell-Sant-Miquel-2019.png
END:VEVENT
BEGIN:VEVENT
DTSTART;VALUE=DATE:20190923
DTEND;VALUE=DATE:20190928
DTSTAMP:20260423T024025
CREATED:20190830T082414Z
LAST-MODIFIED:20190910T143621Z
UID:38752-1569196800-1569628799@mont-roig.cat
SUMMARY:Setmana portes obertes poliesportius municipals
DESCRIPTION:Aquest any se celebrarà la cinquena edició de la Setmana Europea de l’Esport simultàniament en tots els països de la Unió Europea del 23 al 27 de setembre de 2019. Des de l’Àrea d’Esports s’oferirà una setmana de portes obertes perquè qui vulgui pugui conèixer les instal·lacions i participar en les activitats de manera gratuïta. \nADULTS: \nTai-txi-txuan\, txi-kung i meditació\, Ciclisme de sala\, Abdominals\, Tonificació\, Cross 30’\, Pilates\, Ioga\,  G.A.C.\, Gimnàstica per a la gent gran. \nINFANTS: \nEscola esportiva\, psicomotricitat i natació. \nDescarrega’t el fulletó del Departament d’Esport
URL:https://mont-roig.cat/acte/setmana-portes-obertes-poliesportius-municipals/
LOCATION:Poliesportius de Miami Platja i Mont-roig
CATEGORIES:Ajuntament,Esports
ATTACH;FMTTYPE=image/jpeg:https://mont-roig.cat/wp-content/uploads/contraportada-esports.jpg
END:VEVENT
BEGIN:VEVENT
DTSTART;TZID=Europe/Madrid:20190923T190000
DTEND;TZID=Europe/Madrid:20190923T190000
DTSTAMP:20260423T024025
CREATED:20190830T081254Z
LAST-MODIFIED:20190830T081254Z
UID:38740-1569265200-1569265200@mont-roig.cat
SUMMARY:Club de lectura amb 'L'últim Abad'
DESCRIPTION:Club de lectura: “L’últim Abad”: La resistència de Sant Benet de Bages al rei de Castella de Matí Gironell. \n 
URL:https://mont-roig.cat/acte/club-de-lectura-amb-lultim-abad/
LOCATION:Biblioteca Joan Miró Mont-roig\, Carrer Mare de Déu de la Roca\, 5\, Mont-roig del Camp
CATEGORIES:Ajuntament,Biblioteca
GEO:41.08714;0.958
X-APPLE-STRUCTURED-LOCATION;VALUE=URI;X-ADDRESS=Biblioteca Joan Miró Mont-roig Carrer Mare de Déu de la Roca 5 Mont-roig del Camp;X-APPLE-RADIUS=500;X-TITLE=Carrer Mare de Déu de la Roca\, 5:geo:0.958,41.08714
END:VEVENT
END:VCALENDAR