BEGIN:VCALENDAR
VERSION:2.0
PRODID:-//Ajuntament de Mont-roig del Camp - ECPv5.16.3.1//NONSGML v1.0//EN
CALSCALE:GREGORIAN
METHOD:PUBLISH
X-WR-CALNAME:Ajuntament de Mont-roig del Camp
X-ORIGINAL-URL:https://mont-roig.cat
X-WR-CALDESC:Esdeveniments per Ajuntament de Mont-roig del Camp
BEGIN:VTIMEZONE
TZID:Europe/Madrid
BEGIN:DAYLIGHT
TZOFFSETFROM:+0100
TZOFFSETTO:+0200
TZNAME:CEST
DTSTART:20190331T010000
END:DAYLIGHT
BEGIN:STANDARD
TZOFFSETFROM:+0200
TZOFFSETTO:+0100
TZNAME:CET
DTSTART:20191027T010000
END:STANDARD
END:VTIMEZONE
BEGIN:VEVENT
DTSTART;VALUE=DATE:20191005
DTEND;VALUE=DATE:20191021
DTSTAMP:20260420T232039
CREATED:20191003T151438Z
LAST-MODIFIED:20191003T151438Z
UID:39395-1570233600-1571615999@mont-roig.cat
SUMMARY:Jornades Gastronòmiques de l'Arròs de Tardor
DESCRIPTION:Les jornades gastronòmiques de la Cuina de l’Arròs de Tardor de Mont-roig i Miami Platja arrenquen aquest cap de setmana amb la participació de 16 establiments de restauració. Fins al 20 d’octubre oferiran plats i menús amb l’arròs com a protagonista acompanyat de productes de temporada. \nDescarregat el programa sencer en PDF
URL:https://mont-roig.cat/acte/jornades-gastronomiques-de-larros-de-tardor/
LOCATION:Mont-roig i Miami
CATEGORIES:Ajuntament,Turisme
ATTACH;FMTTYPE=image/jpeg:https://mont-roig.cat/wp-content/uploads/DEF_2MM_JG_ARRÒS_CARTELL_A32_page-0001.jpg
END:VEVENT
BEGIN:VEVENT
DTSTART;TZID=Europe/Madrid:20191010T151500
DTEND;TZID=Europe/Madrid:20191010T170000
DTSTAMP:20260420T232039
CREATED:20191008T131631Z
LAST-MODIFIED:20191008T131703Z
UID:39550-1570720500-1570726800@mont-roig.cat
SUMMARY:Taller Internet segura
DESCRIPTION:
URL:https://mont-roig.cat/acte/taller-internet-segura/
LOCATION:Centre Polivalent Sant Jaume\, Carrer de Sòria\, 18\, Miami Platja\, Tarragona\, 43892\, Spain
CATEGORIES:Ajuntament
ATTACH;FMTTYPE=image/jpeg:https://mont-roig.cat/wp-content/uploads/Taller-internet-segura-_page-0001.jpg
END:VEVENT
END:VCALENDAR