BEGIN:VCALENDAR
VERSION:2.0
PRODID:-//Ajuntament de Mont-roig del Camp - ECPv5.16.3.1//NONSGML v1.0//EN
CALSCALE:GREGORIAN
METHOD:PUBLISH
X-WR-CALNAME:Ajuntament de Mont-roig del Camp
X-ORIGINAL-URL:https://mont-roig.cat
X-WR-CALDESC:Esdeveniments per Ajuntament de Mont-roig del Camp
BEGIN:VTIMEZONE
TZID:Europe/Madrid
BEGIN:DAYLIGHT
TZOFFSETFROM:+0100
TZOFFSETTO:+0200
TZNAME:CEST
DTSTART:20220327T010000
END:DAYLIGHT
BEGIN:STANDARD
TZOFFSETFROM:+0200
TZOFFSETTO:+0100
TZNAME:CET
DTSTART:20221030T010000
END:STANDARD
END:VTIMEZONE
BEGIN:VEVENT
DTSTART;TZID=Europe/Madrid:20221014T093000
DTEND;TZID=Europe/Madrid:20221127T183000
DTSTAMP:20260422T191142
CREATED:20221011T155734Z
LAST-MODIFIED:20221011T155816Z
UID:65984-1665739800-1669573800@mont-roig.cat
SUMMARY:Exposició 'Joaquim Gomis retrata Miró i Mont-roig'
DESCRIPTION:
URL:https://mont-roig.cat/acte/exposicio-joaquim-gomis-retrata-miro-i-mont-roig/
LOCATION:Centre Cultural Església Vella\, Carrer Major\, 2\, Mont-roig del Camp\, Tarragona\, 43300\, Spain
CATEGORIES:Ajuntament,Cultura
ATTACH;FMTTYPE=image/jpeg:https://mont-roig.cat/wp-content/uploads/Exposicio-gomis.jpg
GEO:41.0877788;0.958854
X-APPLE-STRUCTURED-LOCATION;VALUE=URI;X-ADDRESS=Centre Cultural Església Vella Carrer Major 2 Mont-roig del Camp Tarragona 43300 Spain;X-APPLE-RADIUS=500;X-TITLE=Carrer Major\, 2:geo:0.958854,41.0877788
END:VEVENT
BEGIN:VEVENT
DTSTART;TZID=Europe/Madrid:20221121T100000
DTEND;TZID=Europe/Madrid:20221121T123000
DTSTAMP:20260422T191142
CREATED:20221117T083738Z
LAST-MODIFIED:20221117T083738Z
UID:66694-1669024800-1669033800@mont-roig.cat
SUMMARY:Espectacle Ludere
DESCRIPTION:Conte popular
URL:https://mont-roig.cat/acte/espectacle-ludere/
LOCATION:Centre Polivalent Sant Jaume\, Carrer de Sòria\, 18\, Miami Platja\, Tarragona\, 43892\, Spain
CATEGORIES:Ajuntament,Cultura
ATTACH;FMTTYPE=image/png:https://mont-roig.cat/wp-content/uploads/MM_25N_stories-2.png
END:VEVENT
END:VCALENDAR