BEGIN:VCALENDAR
VERSION:2.0
PRODID:-//Ajuntament de Mont-roig del Camp - ECPv5.16.3.1//NONSGML v1.0//EN
CALSCALE:GREGORIAN
METHOD:PUBLISH
X-WR-CALNAME:Ajuntament de Mont-roig del Camp
X-ORIGINAL-URL:https://mont-roig.cat
X-WR-CALDESC:Esdeveniments per Ajuntament de Mont-roig del Camp
BEGIN:VTIMEZONE
TZID:Europe/Madrid
BEGIN:DAYLIGHT
TZOFFSETFROM:+0100
TZOFFSETTO:+0200
TZNAME:CEST
DTSTART:20230326T010000
END:DAYLIGHT
BEGIN:STANDARD
TZOFFSETFROM:+0200
TZOFFSETTO:+0100
TZNAME:CET
DTSTART:20231029T010000
END:STANDARD
END:VTIMEZONE
BEGIN:VEVENT
DTSTART;TZID=Europe/Madrid:20230111T180000
DTEND;TZID=Europe/Madrid:20230111T193000
DTSTAMP:20260421T083220
CREATED:20230104T115835Z
LAST-MODIFIED:20230104T115947Z
UID:67440-1673460000-1673465400@mont-roig.cat
SUMMARY:Contes i més contes a la Biblioteca Joan Miró
DESCRIPTION:
URL:https://mont-roig.cat/acte/contes-i-mes-contes-a-la-biblioteca-joan-miro/2023-01-11/
LOCATION:Biblioteca Joan Miró\, Carrer Mare de Déu de la Roca\, 5\, Mont-roig del Camp\, Tarragona\, 43300\, Spain
CATEGORIES:Ajuntament,Biblioteca
ATTACH;FMTTYPE=image/jpeg:https://mont-roig.cat/wp-content/uploads/contes_joanmiro_page-0001.jpg
GEO:41.08714;0.958
X-APPLE-STRUCTURED-LOCATION;VALUE=URI;X-ADDRESS=Biblioteca Joan Miró Carrer Mare de Déu de la Roca 5 Mont-roig del Camp Tarragona 43300 Spain;X-APPLE-RADIUS=500;X-TITLE=Carrer Mare de Déu de la Roca\, 5:geo:0.958,41.08714
END:VEVENT
BEGIN:VEVENT
DTSTART;TZID=Europe/Madrid:20230111T190000
DTEND;TZID=Europe/Madrid:20230111T203000
DTSTAMP:20260421T083220
CREATED:20230103T112021Z
LAST-MODIFIED:20230103T112021Z
UID:67407-1673463600-1673469000@mont-roig.cat
SUMMARY:Sessió informativa sobre el procés dels Pressupostos participatius
DESCRIPTION:
URL:https://mont-roig.cat/acte/sessio-informativa-sobre-el-proces-dels-pressupostos-participatius-2/
LOCATION:Casa de la Cultura\, Carrer Mare de Déu de la Roca\, 5\, Mont-roig del Camp\, Tarragona\, 43300\, Spain
CATEGORIES:Ajuntament,Participació Ciutadana
ATTACH;FMTTYPE=image/png:https://mont-roig.cat/wp-content/uploads/CARTELL-SESSIONS-INFORMATIVES-.png
GEO:41.08714;0.958
X-APPLE-STRUCTURED-LOCATION;VALUE=URI;X-ADDRESS=Casa de la Cultura Carrer Mare de Déu de la Roca 5 Mont-roig del Camp Tarragona 43300 Spain;X-APPLE-RADIUS=500;X-TITLE=Carrer Mare de Déu de la Roca\, 5:geo:0.958,41.08714
END:VEVENT
END:VCALENDAR