BEGIN:VCALENDAR
VERSION:2.0
PRODID:-//Ajuntament de Mont-roig del Camp - ECPv5.16.3.1//NONSGML v1.0//EN
CALSCALE:GREGORIAN
METHOD:PUBLISH
X-WR-CALNAME:Ajuntament de Mont-roig del Camp
X-ORIGINAL-URL:https://mont-roig.cat
X-WR-CALDESC:Esdeveniments per Ajuntament de Mont-roig del Camp
BEGIN:VTIMEZONE
TZID:Europe/Madrid
BEGIN:DAYLIGHT
TZOFFSETFROM:+0100
TZOFFSETTO:+0200
TZNAME:CEST
DTSTART:20230326T010000
END:DAYLIGHT
BEGIN:STANDARD
TZOFFSETFROM:+0200
TZOFFSETTO:+0100
TZNAME:CET
DTSTART:20231029T010000
END:STANDARD
END:VTIMEZONE
BEGIN:VEVENT
DTSTART;TZID=Europe/Madrid:20230208T173000
DTEND;TZID=Europe/Madrid:20230208T190000
DTSTAMP:20260422T111337
CREATED:20230131T105306Z
LAST-MODIFIED:20230131T105415Z
UID:67943-1675877400-1675882800@mont-roig.cat
SUMMARY:Taller de tècniques d'estudi a Mont-roig
DESCRIPTION:
URL:https://mont-roig.cat/acte/taller-de-tecniques-destudi-a-mont-roig/2023-02-08/
LOCATION:Espai Jove K1\, Carrer Aureli M. Escarré\, 28\, Mont-roig del Camp\, Tarragona\, 43300\, Spain
CATEGORIES:Ajuntament,Joventut
ATTACH;FMTTYPE=image/jpeg:https://mont-roig.cat/wp-content/uploads/Taller-tecniques-estudi-scaled.jpg
END:VEVENT
END:VCALENDAR