BEGIN:VCALENDAR
VERSION:2.0
PRODID:-//Ajuntament de Mont-roig del Camp - ECPv5.16.3.1//NONSGML v1.0//EN
CALSCALE:GREGORIAN
METHOD:PUBLISH
X-WR-CALNAME:Ajuntament de Mont-roig del Camp
X-ORIGINAL-URL:https://mont-roig.cat
X-WR-CALDESC:Esdeveniments per Ajuntament de Mont-roig del Camp
BEGIN:VTIMEZONE
TZID:Europe/Madrid
BEGIN:DAYLIGHT
TZOFFSETFROM:+0100
TZOFFSETTO:+0200
TZNAME:CEST
DTSTART:20230326T010000
END:DAYLIGHT
BEGIN:STANDARD
TZOFFSETFROM:+0200
TZOFFSETTO:+0100
TZNAME:CET
DTSTART:20231029T010000
END:STANDARD
END:VTIMEZONE
BEGIN:VEVENT
DTSTART;VALUE=DATE:20230304
DTEND;VALUE=DATE:20230325
DTSTAMP:20260421T180945
CREATED:20230222T135831Z
LAST-MODIFIED:20230222T135831Z
UID:68525-1677888000-1679702399@mont-roig.cat
SUMMARY:Programa d'actes del Dia Internacional de les Dones
DESCRIPTION:Aquí  podras consultar el programa sencer del Dia Internaciona de les Dones. (descarrega el pdf)
URL:https://mont-roig.cat/acte/programa-dactes-del-dia-internacional-de-les-dones/
LOCATION:Mont-roig i Miami
CATEGORIES:Ajuntament,Polítiques d'Igualtat i de les Dones
ATTACH;FMTTYPE=image/png:https://mont-roig.cat/wp-content/uploads/mm_8M23_meta.png
END:VEVENT
BEGIN:VEVENT
DTSTART;TZID=Europe/Madrid:20230314T180000
DTEND;TZID=Europe/Madrid:20230314T193000
DTSTAMP:20260421T180945
CREATED:20230223T082449Z
LAST-MODIFIED:20230223T082449Z
UID:68552-1678816800-1678822200@mont-roig.cat
SUMMARY:Club de lectura infantil 'El petit home llop'
DESCRIPTION:
URL:https://mont-roig.cat/acte/club-de-lectura-infantil-el-petit-home-llop/
LOCATION:Biblioteca Joan Miró Mont-roig\, Carrer Mare de Déu de la Roca\, 5\, Mont-roig del Camp
CATEGORIES:Ajuntament,Biblioteca
ATTACH;FMTTYPE=image/jpeg:https://mont-roig.cat/wp-content/uploads/Club-de-lectura-infantil_joan-miroMARC.jpg
GEO:41.08714;0.958
X-APPLE-STRUCTURED-LOCATION;VALUE=URI;X-ADDRESS=Biblioteca Joan Miró Mont-roig Carrer Mare de Déu de la Roca 5 Mont-roig del Camp;X-APPLE-RADIUS=500;X-TITLE=Carrer Mare de Déu de la Roca\, 5:geo:0.958,41.08714
END:VEVENT
END:VCALENDAR