BEGIN:VCALENDAR
VERSION:2.0
PRODID:-//Ajuntament de Mont-roig del Camp - ECPv5.16.3.1//NONSGML v1.0//EN
CALSCALE:GREGORIAN
METHOD:PUBLISH
X-WR-CALNAME:Ajuntament de Mont-roig del Camp
X-ORIGINAL-URL:https://mont-roig.cat
X-WR-CALDESC:Esdeveniments per Ajuntament de Mont-roig del Camp
BEGIN:VTIMEZONE
TZID:Europe/Madrid
BEGIN:DAYLIGHT
TZOFFSETFROM:+0100
TZOFFSETTO:+0200
TZNAME:CEST
DTSTART:20230326T010000
END:DAYLIGHT
BEGIN:STANDARD
TZOFFSETFROM:+0200
TZOFFSETTO:+0100
TZNAME:CET
DTSTART:20231029T010000
END:STANDARD
END:VTIMEZONE
BEGIN:VEVENT
DTSTART;VALUE=DATE:20230324
DTEND;VALUE=DATE:20230525
DTSTAMP:20260421T180919
CREATED:20230322T095018Z
LAST-MODIFIED:20230322T100420Z
UID:69435-1679616000-1684972799@mont-roig.cat
SUMMARY:Exposició de fotografies 'Traces'\, de Joan Ganyet
DESCRIPTION:
URL:https://mont-roig.cat/acte/exposicio-de-fotografies-traces-de-joan-ganyet/
LOCATION:Centre Cultural Església Vella\, Carrer Major\, 2\, Mont-roig del Camp\, Tarragona\, 43300\, Spain
CATEGORIES:Ajuntament,Cultura
ATTACH;FMTTYPE=image/jpeg:https://mont-roig.cat/wp-content/uploads/cartel-TRACES_page-0001-scaled.jpg
GEO:41.0877788;0.958854
X-APPLE-STRUCTURED-LOCATION;VALUE=URI;X-ADDRESS=Centre Cultural Església Vella Carrer Major 2 Mont-roig del Camp Tarragona 43300 Spain;X-APPLE-RADIUS=500;X-TITLE=Carrer Major\, 2:geo:0.958854,41.0877788
END:VEVENT
BEGIN:VEVENT
DTSTART;VALUE=DATE:20230331
DTEND;VALUE=DATE:20230403
DTSTAMP:20260421T180920
CREATED:20230327T161745Z
LAST-MODIFIED:20230327T162701Z
UID:69585-1680220800-1680479999@mont-roig.cat
SUMMARY:Fira del Vi de Miami Platja
DESCRIPTION:  \nDescarrega el programa sencer en català
URL:https://mont-roig.cat/acte/fira-del-vi-de-miami-platja-2/
LOCATION:Plaça Girona
CATEGORIES:Ajuntament,Turisme
ATTACH;FMTTYPE=image/jpeg:https://mont-roig.cat/wp-content/uploads/CARTELL_-FIRAVI_-23_page-0001-scaled.jpg
END:VEVENT
BEGIN:VEVENT
DTSTART;TZID=Europe/Madrid:20230331T183000
DTEND;TZID=Europe/Madrid:20230331T200000
DTSTAMP:20260421T180920
CREATED:20230223T083259Z
LAST-MODIFIED:20230223T083259Z
UID:68559-1680287400-1680292800@mont-roig.cat
SUMMARY:Club de lectura amb 'Les closques'
DESCRIPTION:
URL:https://mont-roig.cat/acte/club-de-lectura-amb-les-closques/
LOCATION:Biblioteca Miramar\, Carrer Soria\, 16\, Miami Platja\, Tarragona\, 43892\, Spain
CATEGORIES:Ajuntament,Biblioteca
ATTACH;FMTTYPE=image/jpeg:https://mont-roig.cat/wp-content/uploads/Club-de-lectura_miramarMARC.jpg
ORGANIZER;CN="Biblioteca%20Miramar":MAILTO:biblioteca.miami@mont-roig.cat
GEO:41.0027012;0.9276747
X-APPLE-STRUCTURED-LOCATION;VALUE=URI;X-ADDRESS=Biblioteca Miramar Carrer Soria 16 Miami Platja Tarragona 43892 Spain;X-APPLE-RADIUS=500;X-TITLE=Carrer Soria\, 16:geo:0.9276747,41.0027012
END:VEVENT
END:VCALENDAR