BEGIN:VCALENDAR
VERSION:2.0
PRODID:-//Ajuntament de Mont-roig del Camp - ECPv5.16.3.1//NONSGML v1.0//EN
CALSCALE:GREGORIAN
METHOD:PUBLISH
X-WR-CALNAME:Ajuntament de Mont-roig del Camp
X-ORIGINAL-URL:https://mont-roig.cat
X-WR-CALDESC:Esdeveniments per Ajuntament de Mont-roig del Camp
BEGIN:VTIMEZONE
TZID:Europe/Madrid
BEGIN:DAYLIGHT
TZOFFSETFROM:+0100
TZOFFSETTO:+0200
TZNAME:CEST
DTSTART:20240331T010000
END:DAYLIGHT
BEGIN:STANDARD
TZOFFSETFROM:+0200
TZOFFSETTO:+0100
TZNAME:CET
DTSTART:20241027T010000
END:STANDARD
END:VTIMEZONE
BEGIN:VEVENT
DTSTART;VALUE=DATE:20240423
DTEND;VALUE=DATE:20240424
DTSTAMP:20260423T073836
CREATED:20240408T122606Z
LAST-MODIFIED:20240408T122606Z
UID:75855-1713830400-1713916799@mont-roig.cat
SUMMARY:Sant Jordi a Mont-roig i a Miami Platja
DESCRIPTION:
URL:https://mont-roig.cat/acte/sant-jordi-a-mont-roig-i-a-miami-platja/
LOCATION:Mont-roig i Miami
CATEGORIES:Ajuntament,Cultura
ATTACH;FMTTYPE=image/jpeg:https://mont-roig.cat/wp-content/uploads/Cartell-Sant-Jordi-1.jpeg
END:VEVENT
BEGIN:VEVENT
DTSTART;TZID=Europe/Madrid:20240423T100000
DTEND;TZID=Europe/Madrid:20240423T120000
DTSTAMP:20260423T073836
CREATED:20240408T122846Z
LAST-MODIFIED:20240408T122846Z
UID:75859-1713866400-1713873600@mont-roig.cat
SUMMARY:Marató de lectura Sant Jordi 2024
DESCRIPTION:
URL:https://mont-roig.cat/acte/marato-de-lectura-sant-jordi-2024/
LOCATION:Plaça Miramar
CATEGORIES:Ajuntament,Cultura
ATTACH;FMTTYPE=image/png:https://mont-roig.cat/wp-content/uploads/2a-MARATO-DE-LECTURA-A-LA-PLACA.png
END:VEVENT
END:VCALENDAR