BEGIN:VCALENDAR
VERSION:2.0
PRODID:-//Ajuntament de Mont-roig del Camp - ECPv5.16.3.1//NONSGML v1.0//EN
CALSCALE:GREGORIAN
METHOD:PUBLISH
X-WR-CALNAME:Ajuntament de Mont-roig del Camp
X-ORIGINAL-URL:https://mont-roig.cat
X-WR-CALDESC:Esdeveniments per Ajuntament de Mont-roig del Camp
BEGIN:VTIMEZONE
TZID:Europe/Madrid
BEGIN:DAYLIGHT
TZOFFSETFROM:+0100
TZOFFSETTO:+0200
TZNAME:CEST
DTSTART:20240331T010000
END:DAYLIGHT
BEGIN:STANDARD
TZOFFSETFROM:+0200
TZOFFSETTO:+0100
TZNAME:CET
DTSTART:20241027T010000
END:STANDARD
END:VTIMEZONE
BEGIN:VEVENT
DTSTART;TZID=Europe/Madrid:20241128T180000
DTEND;TZID=Europe/Madrid:20241128T190000
DTSTAMP:20260422T153422
CREATED:20241107T170715Z
LAST-MODIFIED:20241107T170731Z
UID:79477-1732816800-1732820400@mont-roig.cat
SUMMARY:Cicle contes i més contes
DESCRIPTION:
URL:https://mont-roig.cat/acte/cicle-contes-i-mes-contes-12/
LOCATION:Biblioteca Miramar\, Carrer Soria\, 16\, Miami Platja\, Tarragona\, 43892\, Spain
CATEGORIES:Ajuntament,Biblioteca
ATTACH;FMTTYPE=image/jpeg:https://mont-roig.cat/wp-content/uploads/contes_miramar-NOV-24-1.jpg
ORGANIZER;CN="Biblioteca%20Miramar":MAILTO:biblioteca.miami@mont-roig.cat
GEO:41.0027012;0.9276747
X-APPLE-STRUCTURED-LOCATION;VALUE=URI;X-ADDRESS=Biblioteca Miramar Carrer Soria 16 Miami Platja Tarragona 43892 Spain;X-APPLE-RADIUS=500;X-TITLE=Carrer Soria\, 16:geo:0.9276747,41.0027012
END:VEVENT
BEGIN:VEVENT
DTSTART;TZID=Europe/Madrid:20241128T193000
DTEND;TZID=Europe/Madrid:20241128T210000
DTSTAMP:20260422T153422
CREATED:20241129T110218Z
LAST-MODIFIED:20241129T110233Z
UID:79770-1732822200-1732827600@mont-roig.cat
SUMMARY:Exposició 'Més amor'
DESCRIPTION:
URL:https://mont-roig.cat/acte/exposicio-mes-amor/
LOCATION:Centre Cultural Església Vella\, Carrer Major\, 2\, Mont-roig del Camp\, Tarragona\, 43300\, Spain
CATEGORIES:Ajuntament,Esports
ATTACH;FMTTYPE=image/jpeg:https://mont-roig.cat/wp-content/uploads/MMC_CCEV_TARDOR24_CARTELL_ERREGIRO_v2_page-0001-scaled.jpg
GEO:41.0877788;0.958854
X-APPLE-STRUCTURED-LOCATION;VALUE=URI;X-ADDRESS=Centre Cultural Església Vella Carrer Major 2 Mont-roig del Camp Tarragona 43300 Spain;X-APPLE-RADIUS=500;X-TITLE=Carrer Major\, 2:geo:0.958854,41.0877788
END:VEVENT
BEGIN:VEVENT
DTSTART;TZID=Europe/Madrid:20241128T200000
DTEND;TZID=Europe/Madrid:20241128T210000
DTSTAMP:20260422T153422
CREATED:20241107T164453Z
LAST-MODIFIED:20241107T164453Z
UID:79455-1732824000-1732827600@mont-roig.cat
SUMMARY:Presentació del llibre 'Dolça a la torre de fang' d'Antoni Veciana
DESCRIPTION:
URL:https://mont-roig.cat/acte/presentacio-del-llibre-dolca-a-la-torre-de-fang-dantoni-veciana/
LOCATION:Biblioteca Joan Miró\, Carrer Mare de Déu de la Roca\, 5\, Mont-roig del Camp\, Tarragona\, 43300\, Spain
CATEGORIES:Ajuntament,Biblioteca
ATTACH;FMTTYPE=image/jpeg:https://mont-roig.cat/wp-content/uploads/Presentacio-Antoni-Veciana.jpg
GEO:41.08714;0.958
X-APPLE-STRUCTURED-LOCATION;VALUE=URI;X-ADDRESS=Biblioteca Joan Miró Carrer Mare de Déu de la Roca 5 Mont-roig del Camp Tarragona 43300 Spain;X-APPLE-RADIUS=500;X-TITLE=Carrer Mare de Déu de la Roca\, 5:geo:0.958,41.08714
END:VEVENT
END:VCALENDAR