BEGIN:VCALENDAR
VERSION:2.0
PRODID:-//Ajuntament de Mont-roig del Camp - ECPv5.16.3.1//NONSGML v1.0//EN
CALSCALE:GREGORIAN
METHOD:PUBLISH
X-WR-CALNAME:Ajuntament de Mont-roig del Camp
X-ORIGINAL-URL:https://mont-roig.cat
X-WR-CALDESC:Esdeveniments per Ajuntament de Mont-roig del Camp
BEGIN:VTIMEZONE
TZID:Europe/Madrid
BEGIN:DAYLIGHT
TZOFFSETFROM:+0100
TZOFFSETTO:+0200
TZNAME:CEST
DTSTART:20240331T010000
END:DAYLIGHT
BEGIN:STANDARD
TZOFFSETFROM:+0200
TZOFFSETTO:+0100
TZNAME:CET
DTSTART:20241027T010000
END:STANDARD
END:VTIMEZONE
BEGIN:VEVENT
DTSTART;TZID=Europe/Madrid:20241129T170000
DTEND;TZID=Europe/Madrid:20241129T210000
DTSTAMP:20260422T153433
CREATED:20241129T110016Z
LAST-MODIFIED:20241129T110016Z
UID:79736-1732899600-1732914000@mont-roig.cat
SUMMARY:Donació de sang
DESCRIPTION:
URL:https://mont-roig.cat/acte/donacio-de-sang-2/
LOCATION:Casal de Joves K1\, c/ Aureli Escarré\, Mont-roig del Camp
CATEGORIES:Ajuntament
ATTACH;FMTTYPE=image/jpeg:https://mont-roig.cat/wp-content/uploads/donaciosang_29-11-24.jpeg
GEO:41.07825;0.9768931
X-APPLE-STRUCTURED-LOCATION;VALUE=URI;X-ADDRESS=Casal de Joves K1 c/ Aureli Escarré Mont-roig del Camp;X-APPLE-RADIUS=500;X-TITLE=c/ Aureli Escarré:geo:0.9768931,41.07825
END:VEVENT
BEGIN:VEVENT
DTSTART;TZID=Europe/Madrid:20241129T183000
DTEND;TZID=Europe/Madrid:20241129T183000
DTSTAMP:20260422T153433
CREATED:20241021T203220Z
LAST-MODIFIED:20241021T203321Z
UID:79126-1732905000-1732905000@mont-roig.cat
SUMMARY:Club de lectura 'La família del meu pare' de Lolita Bosch
DESCRIPTION:
URL:https://mont-roig.cat/acte/club-de-lectura-la-familia-del-meu-pare-de-lolita-bosch/
LOCATION:Biblioteca Miramar\, Carrer Soria\, 16\, Miami Platja\, Tarragona\, 43892\, Spain
CATEGORIES:Ajuntament,Alcalde,Biblioteca
ATTACH;FMTTYPE=image/jpeg:https://mont-roig.cat/wp-content/uploads/Club-de-lectura_miramar.-Nov-24.jpg
ORGANIZER;CN="Biblioteca%20Miramar":MAILTO:biblioteca.miami@mont-roig.cat
GEO:41.0027012;0.9276747
X-APPLE-STRUCTURED-LOCATION;VALUE=URI;X-ADDRESS=Biblioteca Miramar Carrer Soria 16 Miami Platja Tarragona 43892 Spain;X-APPLE-RADIUS=500;X-TITLE=Carrer Soria\, 16:geo:0.9276747,41.0027012
END:VEVENT
BEGIN:VEVENT
DTSTART;TZID=Europe/Madrid:20241129T183000
DTEND;TZID=Europe/Madrid:20241129T193000
DTSTAMP:20260422T153433
CREATED:20241021T205225Z
LAST-MODIFIED:20241021T205225Z
UID:79139-1732905000-1732908600@mont-roig.cat
SUMMARY:Club de lectura 'La família del meu pare' de Lolita Bosch
DESCRIPTION:
URL:https://mont-roig.cat/acte/club-de-lectura-la-familia-del-meu-pare-de-lolita-bosch-2/
LOCATION:Biblioteca Miramar\, Carrer Soria\, 16\, Miami Platja\, Tarragona\, 43892\, Spain
CATEGORIES:Ajuntament,Alcalde,Biblioteca
ATTACH;FMTTYPE=image/jpeg:https://mont-roig.cat/wp-content/uploads/Club-de-lectura_miramar.-Nov-24.jpg
ORGANIZER;CN="Biblioteca%20Miramar":MAILTO:biblioteca.miami@mont-roig.cat
GEO:41.0027012;0.9276747
X-APPLE-STRUCTURED-LOCATION;VALUE=URI;X-ADDRESS=Biblioteca Miramar Carrer Soria 16 Miami Platja Tarragona 43892 Spain;X-APPLE-RADIUS=500;X-TITLE=Carrer Soria\, 16:geo:0.9276747,41.0027012
END:VEVENT
BEGIN:VEVENT
DTSTART;TZID=Europe/Madrid:20241129T183000
DTEND;TZID=Europe/Madrid:20241129T200000
DTSTAMP:20260422T153433
CREATED:20241107T164819Z
LAST-MODIFIED:20241107T164819Z
UID:79460-1732905000-1732910400@mont-roig.cat
SUMMARY:Club de lectura: 'La família del meu pare' de Lolita Bosch
DESCRIPTION:
URL:https://mont-roig.cat/acte/club-de-lectura-la-familia-del-meu-pare-de-lolita-bosch-3/
LOCATION:Biblioteca Miramar\, Carrer Soria\, 16\, Miami Platja\, Tarragona\, 43892\, Spain
CATEGORIES:Ajuntament,Cultura
ATTACH;FMTTYPE=image/jpeg:https://mont-roig.cat/wp-content/uploads/Club-de-lectura_miramar.-Nov-24-1.jpg
ORGANIZER;CN="Biblioteca%20Miramar":MAILTO:biblioteca.miami@mont-roig.cat
GEO:41.0027012;0.9276747
X-APPLE-STRUCTURED-LOCATION;VALUE=URI;X-ADDRESS=Biblioteca Miramar Carrer Soria 16 Miami Platja Tarragona 43892 Spain;X-APPLE-RADIUS=500;X-TITLE=Carrer Soria\, 16:geo:0.9276747,41.0027012
END:VEVENT
END:VCALENDAR