BEGIN:VCALENDAR
VERSION:2.0
PRODID:-//Ajuntament de Mont-roig del Camp - ECPv5.16.3.1//NONSGML v1.0//EN
CALSCALE:GREGORIAN
METHOD:PUBLISH
X-WR-CALNAME:Ajuntament de Mont-roig del Camp
X-ORIGINAL-URL:https://mont-roig.cat
X-WR-CALDESC:Esdeveniments per Ajuntament de Mont-roig del Camp
BEGIN:VTIMEZONE
TZID:Europe/Madrid
BEGIN:DAYLIGHT
TZOFFSETFROM:+0100
TZOFFSETTO:+0200
TZNAME:CEST
DTSTART:20230326T010000
END:DAYLIGHT
BEGIN:STANDARD
TZOFFSETFROM:+0200
TZOFFSETTO:+0100
TZNAME:CET
DTSTART:20231029T010000
END:STANDARD
END:VTIMEZONE
BEGIN:VEVENT
DTSTART;VALUE=DATE:20230324
DTEND;VALUE=DATE:20230525
DTSTAMP:20260421T013734
CREATED:20230322T095018Z
LAST-MODIFIED:20230322T100420Z
UID:69435-1679616000-1684972799@mont-roig.cat
SUMMARY:Exposició de fotografies 'Traces'\, de Joan Ganyet
DESCRIPTION:
URL:https://mont-roig.cat/acte/exposicio-de-fotografies-traces-de-joan-ganyet/
LOCATION:Centre Cultural Església Vella\, Carrer Major\, 2\, Mont-roig del Camp\, Tarragona\, 43300\, Spain
CATEGORIES:Ajuntament,Cultura
ATTACH;FMTTYPE=image/jpeg:https://mont-roig.cat/wp-content/uploads/cartel-TRACES_page-0001-scaled.jpg
GEO:41.0877788;0.958854
X-APPLE-STRUCTURED-LOCATION;VALUE=URI;X-ADDRESS=Centre Cultural Església Vella Carrer Major 2 Mont-roig del Camp Tarragona 43300 Spain;X-APPLE-RADIUS=500;X-TITLE=Carrer Major\, 2:geo:0.958854,41.0877788
END:VEVENT
BEGIN:VEVENT
DTSTART;TZID=Europe/Madrid:20230430T190000
DTEND;TZID=Europe/Madrid:20230430T210000
DTSTAMP:20260421T013734
CREATED:20230414T160409Z
LAST-MODIFIED:20230414T171659Z
UID:69848-1682881200-1682888400@mont-roig.cat
SUMMARY:
DESCRIPTION:
URL:https://mont-roig.cat/acte/69848/
LOCATION:Centre Cultural Església Vella\, Carrer Major\, 2\, Mont-roig del Camp\, Tarragona\, 43300\, Spain
CATEGORIES:Ajuntament,Cultura
ATTACH;FMTTYPE=image/jpeg:https://mont-roig.cat/wp-content/uploads/Imagen-de-WhatsApp-2023-04-14-a-las-13.33.05.jpg
GEO:41.0877788;0.958854
X-APPLE-STRUCTURED-LOCATION;VALUE=URI;X-ADDRESS=Centre Cultural Església Vella Carrer Major 2 Mont-roig del Camp Tarragona 43300 Spain;X-APPLE-RADIUS=500;X-TITLE=Carrer Major\, 2:geo:0.958854,41.0877788
END:VEVENT
BEGIN:VEVENT
DTSTART;TZID=Europe/Madrid:20230430T190000
DTEND;TZID=Europe/Madrid:20230430T203000
DTSTAMP:20260421T013734
CREATED:20230424T121900Z
LAST-MODIFIED:20230424T122052Z
UID:69913-1682881200-1682886600@mont-roig.cat
SUMMARY:Concert de música medieval i renaixentista amb la Kobla d'en Taudell
DESCRIPTION:
URL:https://mont-roig.cat/acte/concert-de-musica-medieval-i-renaixentista-amb-la-kobla-den-taudell/
LOCATION:Centre Cultural Església Vella\, Carrer Major\, 2\, Mont-roig del Camp\, Tarragona\, 43300\, Spain
CATEGORIES:Ajuntament,Cultura
ATTACH;FMTTYPE=image/jpeg:https://mont-roig.cat/wp-content/uploads/kobla.jpeg
GEO:41.0877788;0.958854
X-APPLE-STRUCTURED-LOCATION;VALUE=URI;X-ADDRESS=Centre Cultural Església Vella Carrer Major 2 Mont-roig del Camp Tarragona 43300 Spain;X-APPLE-RADIUS=500;X-TITLE=Carrer Major\, 2:geo:0.958854,41.0877788
END:VEVENT
END:VCALENDAR