BEGIN:VCALENDAR
VERSION:2.0
PRODID:-//Ajuntament de Mont-roig del Camp - ECPv5.16.3.1//NONSGML v1.0//EN
CALSCALE:GREGORIAN
METHOD:PUBLISH
X-WR-CALNAME:Ajuntament de Mont-roig del Camp
X-ORIGINAL-URL:https://mont-roig.cat
X-WR-CALDESC:Esdeveniments per Ajuntament de Mont-roig del Camp
BEGIN:VTIMEZONE
TZID:Europe/Madrid
BEGIN:DAYLIGHT
TZOFFSETFROM:+0100
TZOFFSETTO:+0200
TZNAME:CEST
DTSTART:20230326T010000
END:DAYLIGHT
BEGIN:STANDARD
TZOFFSETFROM:+0200
TZOFFSETTO:+0100
TZNAME:CET
DTSTART:20231029T010000
END:STANDARD
END:VTIMEZONE
BEGIN:VEVENT
DTSTART;TZID=Europe/Madrid:20230715T223000
DTEND;TZID=Europe/Madrid:20230715T233000
DTSTAMP:20260422T093257
CREATED:20230705T132357Z
LAST-MODIFIED:20230705T132639Z
UID:71280-1689460200-1689463800@mont-roig.cat
SUMMARY:Tapia eta Leturia\, al Cap de Setmana Diatònic a Mont-roig
DESCRIPTION:
URL:https://mont-roig.cat/acte/tapia-eta-leturia-al-cap-de-setmana-diatonic-a-mont-roig/
LOCATION:Ermita Mare de Déu de la Roca
CATEGORIES:Ajuntament,Cultura
ATTACH;FMTTYPE=image/jpeg:https://mont-roig.cat/wp-content/uploads/tapia.jpg
END:VEVENT
END:VCALENDAR