BEGIN:VCALENDAR
VERSION:2.0
PRODID:-//Ajuntament de Mont-roig del Camp - ECPv5.16.3.1//NONSGML v1.0//EN
CALSCALE:GREGORIAN
METHOD:PUBLISH
X-WR-CALNAME:Ajuntament de Mont-roig del Camp
X-ORIGINAL-URL:https://mont-roig.cat
X-WR-CALDESC:Esdeveniments per Ajuntament de Mont-roig del Camp
BEGIN:VTIMEZONE
TZID:Europe/Madrid
BEGIN:DAYLIGHT
TZOFFSETFROM:+0100
TZOFFSETTO:+0200
TZNAME:CEST
DTSTART:20220327T010000
END:DAYLIGHT
BEGIN:STANDARD
TZOFFSETFROM:+0200
TZOFFSETTO:+0100
TZNAME:CET
DTSTART:20221030T010000
END:STANDARD
END:VTIMEZONE
BEGIN:VEVENT
DTSTART;TZID=Europe/Madrid:20220709T180000
DTEND;TZID=Europe/Madrid:20220709T193000
DTSTAMP:20260421T151057
CREATED:20220525T162611Z
LAST-MODIFIED:20220525T162611Z
UID:63208-1657389600-1657395000@mont-roig.cat
SUMMARY:'Siliqua'\, Storywalker de Pol López
DESCRIPTION:
URL:https://mont-roig.cat/acte/siliqua-storywalker-de-pol-lopez/
LOCATION:Mas Miró\, Mont-roig\, Tarragona\, 43300
CATEGORIES:Ajuntament,Fundació Mas Miró
ATTACH;FMTTYPE=image/jpeg:https://mont-roig.cat/wp-content/uploads/cartell-activitats-xarxes-9juliol-1-scaled.jpg
END:VEVENT
END:VCALENDAR