BEGIN:VCALENDAR
VERSION:2.0
PRODID:-//Ajuntament de Mont-roig del Camp - ECPv5.16.3.1//NONSGML v1.0//EN
CALSCALE:GREGORIAN
METHOD:PUBLISH
X-WR-CALNAME:Ajuntament de Mont-roig del Camp
X-ORIGINAL-URL:https://mont-roig.cat
X-WR-CALDESC:Esdeveniments per Ajuntament de Mont-roig del Camp
BEGIN:VTIMEZONE
TZID:Europe/Madrid
BEGIN:DAYLIGHT
TZOFFSETFROM:+0100
TZOFFSETTO:+0200
TZNAME:CEST
DTSTART:20220327T010000
END:DAYLIGHT
BEGIN:STANDARD
TZOFFSETFROM:+0200
TZOFFSETTO:+0100
TZNAME:CET
DTSTART:20221030T010000
END:STANDARD
END:VTIMEZONE
BEGIN:VEVENT
DTSTART;TZID=Europe/Madrid:20221112T180000
DTEND;TZID=Europe/Madrid:20221112T190000
DTSTAMP:20260421T213639
CREATED:20221021T102223Z
LAST-MODIFIED:20221107T095748Z
UID:66179-1668276000-1668279600@mont-roig.cat
SUMMARY:Espectacle de titelles 'Sr. Joan\, monsieur Miró'\, amb l'Invisible Titelles
DESCRIPTION:
URL:https://mont-roig.cat/acte/espectacle-de-titelles-sr-joan-monsieur-miro-amb-invisible-titelles/
LOCATION:Biblioteca Joan Miró Mont-roig\, Carrer Mare de Déu de la Roca\, 5\, Mont-roig del Camp
CATEGORIES:Ajuntament,Biblioteca,Fundació Mas Miró
ATTACH;FMTTYPE=image/jpeg:https://mont-roig.cat/wp-content/uploads/Biblioteca-Joan-Miro-de-Mont-roig-1.jpg
GEO:41.08714;0.958
X-APPLE-STRUCTURED-LOCATION;VALUE=URI;X-ADDRESS=Biblioteca Joan Miró Mont-roig Carrer Mare de Déu de la Roca 5 Mont-roig del Camp;X-APPLE-RADIUS=500;X-TITLE=Carrer Mare de Déu de la Roca\, 5:geo:0.958,41.08714
END:VEVENT
END:VCALENDAR