BEGIN:VCALENDAR
VERSION:2.0
PRODID:-//Ajuntament de Mont-roig del Camp - ECPv5.16.3.1//NONSGML v1.0//EN
CALSCALE:GREGORIAN
METHOD:PUBLISH
X-WR-CALNAME:Ajuntament de Mont-roig del Camp
X-ORIGINAL-URL:https://mont-roig.cat
X-WR-CALDESC:Esdeveniments per Ajuntament de Mont-roig del Camp
BEGIN:VTIMEZONE
TZID:Europe/Madrid
BEGIN:DAYLIGHT
TZOFFSETFROM:+0100
TZOFFSETTO:+0200
TZNAME:CEST
DTSTART:20260329T010000
END:DAYLIGHT
BEGIN:STANDARD
TZOFFSETFROM:+0200
TZOFFSETTO:+0100
TZNAME:CET
DTSTART:20261025T010000
END:STANDARD
END:VTIMEZONE
BEGIN:VEVENT
DTSTART;TZID=Europe/Madrid:20260414T113000
DTEND;TZID=Europe/Madrid:20260414T113000
DTSTAMP:20260419T195636
CREATED:20260303T124235Z
LAST-MODIFIED:20260304T084143Z
UID:89776-1776166200-1776166200@mont-roig.cat
SUMMARY:Cicle de xerrades d'Acció Comunitària: La meva Salut
DESCRIPTION:Miami Platja \n\nDintre del programa d’activitats de la Gent Gran\, s’ofereix aquesta activitat a càrrec de Estefania ALberola\, administrativa del CAP de Miami Platja. \n\nDescarrega’t el programa de la Gent Gran primavera/estiu 2026 AQUÍ
URL:https://mont-roig.cat/acte/la-meva-salut/
LOCATION:Casal d’Avis Sant Jaume
CATEGORIES:Ajuntament,Gent Gran
ATTACH;FMTTYPE=image/jpeg:https://mont-roig.cat/wp-content/uploads/MM_SALUT_PRIMAVERA26_GENT_GRAN_2_page-0003-scaled.jpg
ORGANIZER;CN="Gent%20Gran":MAILTO:gent.gran@mont-roig.cat
END:VEVENT
END:VCALENDAR