BEGIN:VCALENDAR
VERSION:2.0
PRODID:-//Ajuntament de Mont-roig del Camp - ECPv5.16.3.1//NONSGML v1.0//EN
CALSCALE:GREGORIAN
METHOD:PUBLISH
X-WR-CALNAME:Ajuntament de Mont-roig del Camp
X-ORIGINAL-URL:https://mont-roig.cat
X-WR-CALDESC:Esdeveniments per Ajuntament de Mont-roig del Camp
BEGIN:VTIMEZONE
TZID:Europe/Madrid
BEGIN:DAYLIGHT
TZOFFSETFROM:+0100
TZOFFSETTO:+0200
TZNAME:CEST
DTSTART:20260329T010000
END:DAYLIGHT
BEGIN:STANDARD
TZOFFSETFROM:+0200
TZOFFSETTO:+0100
TZNAME:CET
DTSTART:20261025T010000
END:STANDARD
END:VTIMEZONE
BEGIN:VEVENT
DTSTART;TZID=Europe/Madrid:20260415T174500
DTEND;TZID=Europe/Madrid:20260415T174500
DTSTAMP:20260419T231435
CREATED:20260303T123825Z
LAST-MODIFIED:20260304T083945Z
UID:89774-1776275100-1776275100@mont-roig.cat
SUMMARY:Cicle de xerrades d'Acció Comunitària: Ni un clic més. Stop a les estafes
DESCRIPTION:Mont-roig del Camp \n\nDintre del programa d’activitats de la Gent Gran\, s’ofereix aquesta activitat a càrrec de David Marqués\, Caporal de la Policia Local. \n\nDescarrega’t el programa de la Gent Gran primavera/estiu 2026 AQUÍ
URL:https://mont-roig.cat/acte/ni-un-clic-mes-stop-a-les-estafes-2/
LOCATION:Casal de la Gent Gran Mont-roig\, C. Aureli M. Escarré\, s/n\, Mont-roig del Camp\, Tarragona\, 43300\, Spain
CATEGORIES:Ajuntament,Gent Gran
ATTACH;FMTTYPE=image/jpeg:https://mont-roig.cat/wp-content/uploads/MM_SALUT_PRIMAVERA26_GENT_GRAN_page-0002-scaled.jpg
ORGANIZER;CN="Gent%20Gran":MAILTO:gent.gran@mont-roig.cat
END:VEVENT
END:VCALENDAR