BEGIN:VCALENDAR
VERSION:2.0
PRODID:-//Ajuntament de Mont-roig del Camp - ECPv5.16.3.1//NONSGML v1.0//EN
CALSCALE:GREGORIAN
METHOD:PUBLISH
X-WR-CALNAME:Ajuntament de Mont-roig del Camp
X-ORIGINAL-URL:https://mont-roig.cat
X-WR-CALDESC:Esdeveniments per Ajuntament de Mont-roig del Camp
BEGIN:VTIMEZONE
TZID:Europe/Madrid
BEGIN:DAYLIGHT
TZOFFSETFROM:+0100
TZOFFSETTO:+0200
TZNAME:CEST
DTSTART:20210328T010000
END:DAYLIGHT
BEGIN:STANDARD
TZOFFSETFROM:+0200
TZOFFSETTO:+0100
TZNAME:CET
DTSTART:20211031T010000
END:STANDARD
END:VTIMEZONE
BEGIN:VEVENT
DTSTART;TZID=Europe/Madrid:20210428T160000
DTEND;TZID=Europe/Madrid:20210428T170000
DTSTAMP:20260422T065118
CREATED:20210415T103655Z
LAST-MODIFIED:20210415T104332Z
UID:54940-1619625600-1619629200@mont-roig.cat
SUMMARY:Workshop Joves amb Álex Aragón
DESCRIPTION:En aquesta trobada ON-LINE destinada als i les joves\, l’ emprenedor Álex Aragón ens explicarà la seva trajectòria professional\, els diferents projectes i reptes als quals s’ha enfrontat i quines eines i estratègies li han servit per a superar-los i assolir-los. \nDimecres 28 d’abril de 16 a 18 h. \nPer participar-hi\, cal enviar un correu electrònic a promocio@mont-roig.cat\, amb nom i cognoms\, DNI\, correu electrònic i núm. de telèfon. També pot trucar al 977 17 27 25.
URL:https://mont-roig.cat/acte/workshop-joves-amb-alex-aragon/
CATEGORIES:Impuls Econòmic i Ocupació
END:VEVENT
END:VCALENDAR